BEGIN:VCALENDAR
VERSION:2.0
PRODID:-//Concordia Seminary - ECPv6.13.1//NONSGML v1.0//EN
CALSCALE:GREGORIAN
METHOD:PUBLISH
X-ORIGINAL-URL:https://stg.csl.matchbox.host
X-WR-CALDESC:Events for Concordia Seminary
REFRESH-INTERVAL;VALUE=DURATION:PT1H
X-Robots-Tag:noindex
X-PUBLISHED-TTL:PT1H
BEGIN:VTIMEZONE
TZID:America/Chicago
BEGIN:DAYLIGHT
TZOFFSETFROM:-0600
TZOFFSETTO:-0500
TZNAME:CDT
DTSTART:20220313T080000
END:DAYLIGHT
BEGIN:STANDARD
TZOFFSETFROM:-0500
TZOFFSETTO:-0600
TZNAME:CST
DTSTART:20221106T070000
END:STANDARD
END:VTIMEZONE
BEGIN:VEVENT
DTSTART;VALUE=DATE:20220320
DTEND;VALUE=DATE:20220321
DTSTAMP:20260423T050809
CREATED:20211221T224702Z
LAST-MODIFIED:20230302T130620Z
UID:10003542-1647734400-1647820799@stg.csl.matchbox.host
SUMMARY:Spring begins
DESCRIPTION:
URL:https://stg.csl.matchbox.host/event/spring-begins/2022-03-20/
LOCATION:MO
CATEGORIES:Season
ATTACH;FMTTYPE=image/jpeg:https://stg.csl.matchbox.host/wp-content/uploads/2022/09/spring-begins.jpg
END:VEVENT
BEGIN:VEVENT
DTSTART;VALUE=DATE:20220320
DTEND;VALUE=DATE:20220321
DTSTAMP:20260423T050809
CREATED:20211222T011802Z
LAST-MODIFIED:20221005T003146Z
UID:10003566-1647734400-1647820799@stg.csl.matchbox.host
SUMMARY:Third Sunday in Lent
DESCRIPTION:Third Sunday in Len \n\n\n\nFIRST READING\nEzek. 33:7-20\n\n\nPSALM\nPsalm 85\n\n\nEPISTLE\n1 Cor. 10:1-13\n\n\nGOSPEL\nLuke 13:1-9\n\n\n\nColor
URL:https://stg.csl.matchbox.host/event/third-sunday-in-lent-2022/
LOCATION:MO
CATEGORIES:Liturgical Calendar
ATTACH;FMTTYPE=image/png:https://stg.csl.matchbox.host/wp-content/uploads/2022/09/purple.png
END:VEVENT
BEGIN:VEVENT
DTSTART;TZID=America/Chicago:20220320T080000
DTEND;TZID=America/Chicago:20220320T210000
DTSTAMP:20260423T050809
CREATED:20211207T220804Z
LAST-MODIFIED:20211207T220804Z
UID:10003516-1647763200-1647810000@stg.csl.matchbox.host
SUMMARY:Laudamus Spring Tour 2022
DESCRIPTION:Laudamus is a select choir of seminarians preparing for full-time service as pastors in The Lutheran Church—Missouri Synod (LCMS). Under the direction of Dr. James Marriott\, the Seminary’s director of music arts\, the choir delights in proclaiming the Gospel of Jesus Christ through music. \nEach year\, the choir schedules tours to LCMS schools\, universities and churches throughout the country\, singing an eclectic program representing the church’s song from many different genres.
URL:https://stg.csl.matchbox.host/event/laudamus-spring-tour-03-20-2022-8am/
LOCATION:MO\, United States
CATEGORIES:Laudamus,Music & Arts
ATTACH;FMTTYPE=image/jpeg:https://stg.csl.matchbox.host/wp-content/uploads/2022/09/laudamus-event.jpg
END:VEVENT
BEGIN:VEVENT
DTSTART;TZID=America/Chicago:20220320T103000
DTEND;TZID=America/Chicago:20220320T113000
DTSTAMP:20260423T050809
CREATED:20211207T221405Z
LAST-MODIFIED:20211207T221405Z
UID:10003517-1647772200-1647775800@stg.csl.matchbox.host
SUMMARY:Laudamus Spring Tour 2022
DESCRIPTION:Laudamus is a select choir of seminarians preparing for full-time service as pastors in The Lutheran Church—Missouri Synod (LCMS). Under the direction of Dr. James Marriott\, the Seminary’s director of music arts\, the choir delights in proclaiming the Gospel of Jesus Christ through music. \nEach year\, the choir schedules tours to LCMS schools\, universities and churches throughout the country\, singing an eclectic program representing the church’s song from many different genres.
URL:https://stg.csl.matchbox.host/event/laudamus-spring-tour-03-20-2022-1030am/
LOCATION:MO\, United States
CATEGORIES:Laudamus,Music & Arts
ATTACH;FMTTYPE=image/jpeg:https://stg.csl.matchbox.host/wp-content/uploads/2022/09/laudamus-event.jpg
END:VEVENT
BEGIN:VEVENT
DTSTART;TZID=America/Chicago:20220320T150000
DTEND;TZID=America/Chicago:20220320T163000
DTSTAMP:20260423T050809
CREATED:20211207T221903Z
LAST-MODIFIED:20211207T221903Z
UID:10003518-1647788400-1647793800@stg.csl.matchbox.host
SUMMARY:Laudamus Spring Tour 2022
DESCRIPTION:Laudamus is a select choir of seminarians preparing for full-time service as pastors in The Lutheran Church—Missouri Synod (LCMS). Under the direction of Dr. James Marriott\, the Seminary’s director of music arts\, the choir delights in proclaiming the Gospel of Jesus Christ through music. \nEach year\, the choir schedules tours to LCMS schools\, universities and churches throughout the country\, singing an eclectic program representing the church’s song from many different genres.
URL:https://stg.csl.matchbox.host/event/laudamus-spring-tour-03-20-2022-3pm/
LOCATION:MO\, United States
CATEGORIES:Laudamus,Music & Arts
ATTACH;FMTTYPE=image/jpeg:https://stg.csl.matchbox.host/wp-content/uploads/2022/09/laudamus-event.jpg
END:VEVENT
END:VCALENDAR