BEGIN:VCALENDAR
VERSION:2.0
PRODID:-//Concordia Seminary - ECPv6.13.1//NONSGML v1.0//EN
CALSCALE:GREGORIAN
METHOD:PUBLISH
X-ORIGINAL-URL:https://stg.csl.matchbox.host
X-WR-CALDESC:Events for Concordia Seminary
REFRESH-INTERVAL;VALUE=DURATION:PT1H
X-Robots-Tag:noindex
X-PUBLISHED-TTL:PT1H
BEGIN:VTIMEZONE
TZID:America/Chicago
BEGIN:DAYLIGHT
TZOFFSETFROM:-0600
TZOFFSETTO:-0500
TZNAME:CDT
DTSTART:20220313T080000
END:DAYLIGHT
BEGIN:STANDARD
TZOFFSETFROM:-0500
TZOFFSETTO:-0600
TZNAME:CST
DTSTART:20221106T070000
END:STANDARD
END:VTIMEZONE
BEGIN:VEVENT
DTSTART;VALUE=DATE:20220503
DTEND;VALUE=DATE:20220505
DTSTAMP:20260425T153359
CREATED:20210408T223222Z
LAST-MODIFIED:20210408T223222Z
UID:174047-1651536000-1651708799@stg.csl.matchbox.host
SUMMARY:Multiethnic Symposium
DESCRIPTION:Rise and Enter the City: The Hopeful Church in the Multiethnic City\nThe 2022 Multiethnic Symposium will explore the biblical\, artistic and missional perspectives that emanate from diverse ethnic churches and communities\, particularly in the United States\, and will encourage participants to contribute toward a Lutheran theology of urban ministry that inspires and guides intercultural engagement with neighbors living in today’s complex urban landscape.\n \nLearn More\n 
URL:https://stg.csl.matchbox.host/event/multiethnic-symposium-2022/
LOCATION:MO
CATEGORIES:Academics,Continuing Education,Faculty Speaking Engagement
ATTACH;FMTTYPE=image/jpeg:https://stg.csl.matchbox.host/wp-content/uploads/2022/09/mes-event.jpg
END:VEVENT
BEGIN:VEVENT
DTSTART;VALUE=DATE:20220503
DTEND;VALUE=DATE:20220505
DTSTAMP:20260425T153359
CREATED:20211221T210640Z
LAST-MODIFIED:20211221T210640Z
UID:174202-1651536000-1651708799@stg.csl.matchbox.host
SUMMARY:Contemplate
DESCRIPTION:Contemplate is an event for college-age or older potential students. It provides an opportunity to learn more about life in the Concordia Seminary community and the preparation that leads to service as a pastor\, missionary\, chaplain or deaconess in The Lutheran Church—Missouri Synod (LCMS).\n \nLearn More\n 
URL:https://stg.csl.matchbox.host/event/contemplate-may-2022/
LOCATION:MO
CATEGORIES:Admissions,Visit
ATTACH;FMTTYPE=image/jpeg:https://stg.csl.matchbox.host/wp-content/uploads/2022/09/contemplate-event-5-22.jpg
END:VEVENT
BEGIN:VEVENT
DTSTART;TZID=America/Chicago:20220503T160000
DTEND;TZID=America/Chicago:20220503T180000
DTSTAMP:20260425T153359
CREATED:20220802T175339Z
LAST-MODIFIED:20220802T175339Z
UID:154345-1651593600-1651600800@stg.csl.matchbox.host
SUMMARY:Intramural Softball
DESCRIPTION:
URL:https://stg.csl.matchbox.host/event/intramural-softball-8/
LOCATION:MO
CATEGORIES:Student Association
ORGANIZER;CN="Howell%2C Colby":MAILTO:howellco@csl.edu
END:VEVENT
END:VCALENDAR