BEGIN:VCALENDAR
VERSION:2.0
PRODID:-//Concordia Seminary - ECPv6.13.1//NONSGML v1.0//EN
CALSCALE:GREGORIAN
METHOD:PUBLISH
X-ORIGINAL-URL:https://stg.csl.matchbox.host
X-WR-CALDESC:Events for Concordia Seminary
REFRESH-INTERVAL;VALUE=DURATION:PT1H
X-Robots-Tag:noindex
X-PUBLISHED-TTL:PT1H
BEGIN:VTIMEZONE
TZID:America/Chicago
BEGIN:DAYLIGHT
TZOFFSETFROM:-0600
TZOFFSETTO:-0500
TZNAME:CDT
DTSTART:20220313T080000
END:DAYLIGHT
BEGIN:STANDARD
TZOFFSETFROM:-0500
TZOFFSETTO:-0600
TZNAME:CST
DTSTART:20221106T070000
END:STANDARD
END:VTIMEZONE
BEGIN:VEVENT
DTSTART;VALUE=DATE:20220627
DTEND;VALUE=DATE:20220630
DTSTAMP:20260424T114543
CREATED:20220309T221542Z
LAST-MODIFIED:20221005T003210Z
UID:174377-1656288000-1656547199@stg.csl.matchbox.host
SUMMARY:Prof Insights: Faculty-Led Workshop – Professor Herrmann in Ottawa\, KS
DESCRIPTION:NEW\n\n\nListening to C.S. Lewis\n\n\n\n\nC.S. Lewis continues to be one of the most important modern authors among English-speaking Christians. His fiction has delighted children and adults alike\, and his nonfiction has encouraged and challenged the Christian as well as the skeptic. This workshop will look at the thought and writings of C.S. Lewis especially as it intersects with themes important for Lutherans — e.g. theology of the cross\, faith\, science and reason\, and the role of beauty for belief and ethics.  There is no pre-requisite reading for this workshop\, but if one wishes\, recommended readings include The Weight of Glory\, The Problem of Pain\, The Four Loves and Till We Have Faces. \n\n\n\n\nDr. Erik Herrmann\nProfessor of Historical Theology; Dean of Theological Research and Publication; Director of the Center for Reformation Research; and Director of Concordia Theology\, Concordia Seminary\, St. Louis\nDr. Erik Herrmann is emerging as one of the leading Luther scholars in the world as evidenced by an invitation extended to him to give a plenary paper at the International Luther Congress. His academic interests in Luther studies are complemented by an equally strong interest in questions related to Lutheran piety and the devotional writings of the late Middle Ages and Reformation especially as they pertain to pastoral care. \n\n\n	\n\n\n\n\nSchedule\n\n\nDAY\nTIME\n\n\nMonday\, June 27\n1-4 p.m.\n\n\nTuesday\, June 28\n9-11:30 a.m.\n\n\n\n1-4 p.m.\n\n\nWednesday\, June 29\n9 a.m.-noon\n\n\n\n\n	Registration cost: $140\n	Registration deadline: June 13\, 2022\n	Location contact: Timothy Roth\n	 \n	Register\n	More Workshops\n\n\nNote: The schedule is subject to change at the discretion of the workshop presenters. \n\n 
URL:https://stg.csl.matchbox.host/event/prof-insights-faculty-led-workshop-professor-herrmann-in-ottawa-ks/
LOCATION:MO
CATEGORIES:Continuing Education
ATTACH;FMTTYPE=image/jpeg:https://stg.csl.matchbox.host/wp-content/uploads/2022/09/prof-insights-event.jpg
END:VEVENT
BEGIN:VEVENT
DTSTART;VALUE=DATE:20220627
DTEND;VALUE=DATE:20220703
DTSTAMP:20260424T114543
CREATED:20210908T231120Z
LAST-MODIFIED:20210908T231120Z
UID:174100-1656288000-1656806399@stg.csl.matchbox.host
SUMMARY:Vocatio
DESCRIPTION:Vocatio is a retreat that encourages high schoolers to find God’s calling for their lives through experiencing many aspects of the Seminary including worship and devotions\, sessions with professors\, and even some fun and recreation! This event is free and will be held on campus.\n \nLearn more\n 
URL:https://stg.csl.matchbox.host/event/vocatio-2022/
LOCATION:MO
CATEGORIES:Admissions,Recruitment,Visit
ATTACH;FMTTYPE=image/jpeg:https://stg.csl.matchbox.host/wp-content/uploads/2022/10/vocatio-featured.jpg
END:VEVENT
BEGIN:VEVENT
DTSTART;TZID=America/Chicago:20220627T080000
DTEND;TZID=America/Chicago:20220627T170000
DTSTAMP:20260424T114543
CREATED:20220520T002405Z
LAST-MODIFIED:20220520T002405Z
UID:174416-1656316800-1656349200@stg.csl.matchbox.host
SUMMARY:Library hours
DESCRIPTION:
URL:https://stg.csl.matchbox.host/event/library-hours-57/
LOCATION:MO
CATEGORIES:Library
END:VEVENT
END:VCALENDAR