BEGIN:VCALENDAR
VERSION:2.0
PRODID:-//Concordia Seminary - ECPv6.13.1//NONSGML v1.0//EN
CALSCALE:GREGORIAN
METHOD:PUBLISH
X-ORIGINAL-URL:https://stg.csl.matchbox.host
X-WR-CALDESC:Events for Concordia Seminary
REFRESH-INTERVAL;VALUE=DURATION:PT1H
X-Robots-Tag:noindex
X-PUBLISHED-TTL:PT1H
BEGIN:VTIMEZONE
TZID:America/Chicago
BEGIN:DAYLIGHT
TZOFFSETFROM:-0600
TZOFFSETTO:-0500
TZNAME:CDT
DTSTART:20220313T080000
END:DAYLIGHT
BEGIN:STANDARD
TZOFFSETFROM:-0500
TZOFFSETTO:-0600
TZNAME:CST
DTSTART:20221106T070000
END:STANDARD
END:VTIMEZONE
BEGIN:VEVENT
DTSTART;VALUE=DATE:20220822
DTEND;VALUE=DATE:20220828
DTSTAMP:20260424T210743
CREATED:20220823T003839Z
LAST-MODIFIED:20220823T003839Z
UID:174528-1661126400-1661644799@stg.csl.matchbox.host
SUMMARY:Pederson Field House closed
DESCRIPTION:The Field House will be closed this week due to orientation activities.
URL:https://stg.csl.matchbox.host/event/pederson-field-house-closed/
LOCATION:MO
CATEGORIES:Athletics,Orientation
END:VEVENT
BEGIN:VEVENT
DTSTART;TZID=America/Chicago:20220627T080000
DTEND;TZID=America/Chicago:20220627T170000
DTSTAMP:20260424T210743
CREATED:20220520T002405Z
LAST-MODIFIED:20220520T002405Z
UID:174416-1656316800-1656349200@stg.csl.matchbox.host
SUMMARY:Library hours
DESCRIPTION:
URL:https://stg.csl.matchbox.host/event/library-hours-57/
LOCATION:MO
CATEGORIES:Library
END:VEVENT
BEGIN:VEVENT
DTSTART;TZID=America/Chicago:20220826T103000
DTEND;TZID=America/Chicago:20220826T113000
DTSTAMP:20260424T210744
CREATED:20211223T205729Z
LAST-MODIFIED:20211223T205729Z
UID:174325-1661509800-1661513400@stg.csl.matchbox.host
SUMMARY:Opening Service
DESCRIPTION:Opening Service for the 184th academic year will be held at 10:30 a.m. CT Friday\, Aug. 26\, in the Chapel of St. Timothy and St. Titus. The public is invited to attend. The service also will be livestreamed at csl.edu/live.\n 
URL:https://stg.csl.matchbox.host/event/opening-service-6/
LOCATION:MO
CATEGORIES:Academics,Campus Events
ATTACH;FMTTYPE=image/jpeg:https://stg.csl.matchbox.host/wp-content/uploads/2022/09/nay-event2.jpg
END:VEVENT
END:VCALENDAR