BEGIN:VCALENDAR
VERSION:2.0
PRODID:-//Concordia Seminary - ECPv6.13.1//NONSGML v1.0//EN
CALSCALE:GREGORIAN
METHOD:PUBLISH
X-ORIGINAL-URL:https://stg.csl.matchbox.host
X-WR-CALDESC:Events for Concordia Seminary
REFRESH-INTERVAL;VALUE=DURATION:PT1H
X-Robots-Tag:noindex
X-PUBLISHED-TTL:PT1H
BEGIN:VTIMEZONE
TZID:America/Chicago
BEGIN:DAYLIGHT
TZOFFSETFROM:-0600
TZOFFSETTO:-0500
TZNAME:CDT
DTSTART:20220313T080000
END:DAYLIGHT
BEGIN:STANDARD
TZOFFSETFROM:-0500
TZOFFSETTO:-0600
TZNAME:CST
DTSTART:20221106T070000
END:STANDARD
END:VTIMEZONE
BEGIN:VEVENT
DTSTART;VALUE=DATE:20221017
DTEND;VALUE=DATE:20221022
DTSTAMP:20260425T180806
CREATED:20210408T213841Z
LAST-MODIFIED:20221010T134438Z
UID:174040-1665964800-1666396799@stg.csl.matchbox.host
SUMMARY:Reading Week - no classes
DESCRIPTION:No residential class sessions are scheduled.\n 
URL:https://stg.csl.matchbox.host/event/reading-week-no-classes-2022-10/
LOCATION:MO
CATEGORIES:Academics
ATTACH;FMTTYPE=image/jpeg:https://stg.csl.matchbox.host/wp-content/uploads/2021/06/reading-week.jpg
END:VEVENT
BEGIN:VEVENT
DTSTART;VALUE=DATE:20221018
DTEND;VALUE=DATE:20221019
DTSTAMP:20260425T180806
CREATED:20200825T004008Z
LAST-MODIFIED:20221005T212749Z
UID:173885-1666051200-1666137599@stg.csl.matchbox.host
SUMMARY:St. Luke\, Evangelist
DESCRIPTION:
URL:https://stg.csl.matchbox.host/event/st-luke-evangelist-recurring-2022-10-18/
LOCATION:MO
CATEGORIES:Liturgical Calendar
END:VEVENT
BEGIN:VEVENT
DTSTART;TZID=America/Chicago:20221017T080000
DTEND;TZID=America/Chicago:20221017T170000
DTSTAMP:20260425T180806
CREATED:20221010T134907Z
LAST-MODIFIED:20221010T134907Z
UID:176572-1665993600-1666026000@stg.csl.matchbox.host
SUMMARY:Library hours
DESCRIPTION:
URL:https://stg.csl.matchbox.host/event/library-hours/
LOCATION:Kristine Kay Hasse Memorial Library\, 801 Seminary Place\, St. Louis\, MO\, 63105\, United States
CATEGORIES:Library
END:VEVENT
END:VCALENDAR