BEGIN:VCALENDAR
VERSION:2.0
PRODID:-//Concordia Seminary - ECPv6.13.1//NONSGML v1.0//EN
CALSCALE:GREGORIAN
METHOD:PUBLISH
X-ORIGINAL-URL:https://stg.csl.matchbox.host
X-WR-CALDESC:Events for Concordia Seminary
REFRESH-INTERVAL;VALUE=DURATION:PT1H
X-Robots-Tag:noindex
X-PUBLISHED-TTL:PT1H
BEGIN:VTIMEZONE
TZID:America/Chicago
BEGIN:DAYLIGHT
TZOFFSETFROM:-0600
TZOFFSETTO:-0500
TZNAME:CDT
DTSTART:20230312T080000
END:DAYLIGHT
BEGIN:STANDARD
TZOFFSETFROM:-0500
TZOFFSETTO:-0600
TZNAME:CST
DTSTART:20231105T070000
END:STANDARD
END:VTIMEZONE
BEGIN:VEVENT
DTSTART;VALUE=DATE:20230623
DTEND;VALUE=DATE:20230624
DTSTAMP:20260425T180954
CREATED:20210617T203022Z
LAST-MODIFIED:20221006T184428Z
UID:174579-1687478400-1687564799@stg.csl.matchbox.host
SUMMARY:Reduced Residency Advanced Studies (S.T.M./Ph.D.) courses end
DESCRIPTION:
URL:https://stg.csl.matchbox.host/event/reduced-residency-s-t-m-ph-d-courses-end-4/
LOCATION:MO
CATEGORIES:Academics,Doctor of Philosophy,Master of Sacred Theology
END:VEVENT
BEGIN:VEVENT
DTSTART;TZID=America/Chicago:20230623T080000
DTEND;TZID=America/Chicago:20230623T170000
DTSTAMP:20260425T180954
CREATED:20230523T134453Z
LAST-MODIFIED:20230523T134453Z
UID:181485-1687507200-1687539600@stg.csl.matchbox.host
SUMMARY:Library hours
DESCRIPTION:
URL:https://stg.csl.matchbox.host/event/library-hours-11/
LOCATION:Kristine Kay Hasse Memorial Library\, 801 Seminary Place\, St. Louis\, MO\, 63105\, United States
CATEGORIES:Library
ATTACH;FMTTYPE=image/jpeg:https://stg.csl.matchbox.host/wp-content/uploads/2022/12/library-hours.jpg
END:VEVENT
END:VCALENDAR