BEGIN:VCALENDAR
VERSION:2.0
PRODID:-//Concordia Seminary - ECPv6.13.1//NONSGML v1.0//EN
CALSCALE:GREGORIAN
METHOD:PUBLISH
X-ORIGINAL-URL:https://stg.csl.matchbox.host
X-WR-CALDESC:Events for Concordia Seminary
REFRESH-INTERVAL;VALUE=DURATION:PT1H
X-Robots-Tag:noindex
X-PUBLISHED-TTL:PT1H
BEGIN:VTIMEZONE
TZID:America/Chicago
BEGIN:DAYLIGHT
TZOFFSETFROM:-0600
TZOFFSETTO:-0500
TZNAME:CDT
DTSTART:20230312T080000
END:DAYLIGHT
BEGIN:STANDARD
TZOFFSETFROM:-0500
TZOFFSETTO:-0600
TZNAME:CST
DTSTART:20231105T070000
END:STANDARD
END:VTIMEZONE
BEGIN:VEVENT
DTSTART;VALUE=DATE:20230624
DTEND;VALUE=DATE:20230702
DTSTAMP:20260425T131924
CREATED:20221213T202305Z
LAST-MODIFIED:20230330T165024Z
UID:178780-1687564800-1688255999@stg.csl.matchbox.host
SUMMARY:Vocatio
DESCRIPTION:Vocatio is a retreat that encourages high schoolers to find God’s calling for their lives through experiencing many aspects of the Seminary including worship and devotions\, sessions with professors\, and even some fun and recreation! \nOpen to high school men and women entering grades nine through 12\, the event is free. \nRegistration deadline: May 27\, 2023\n \nRegister Learn More\n 
URL:https://stg.csl.matchbox.host/event/vocatio-2023/
LOCATION:Concordia Seminary\, St. Louis\, 801 Seminary Place\, St. Louis\, MO\, 63105\, United States
CATEGORIES:Admissions,Visit
ATTACH;FMTTYPE=image/jpeg:https://stg.csl.matchbox.host/wp-content/uploads/2022/10/vocatio-featured.jpg
END:VEVENT
BEGIN:VEVENT
DTSTART;VALUE=DATE:20230626
DTEND;VALUE=DATE:20230629
DTSTAMP:20260425T131924
CREATED:20230322T131352Z
LAST-MODIFIED:20230608T192440Z
UID:180376-1687737600-1687996799@stg.csl.matchbox.host
SUMMARY:Prof Insights: Faculty-Led Workshop – Professor Burreson in Ottawa\, KS
DESCRIPTION:From Font to Table: Welcoming the Stranger into Christ and Congregational Life\nVeteran pastors and commissioned ministers of parish ministry are well aware there is no “magic bullet” that guarantees to increase a congregation’s membership\, and this workshop makes no such claim for an adult faith formation process. Rather\, the research—case studies at four congregations with robust catechumenal practices—points to congregational transformation that draws newcomers and long-time members into an apprenticeship of the way and life of Jesus Christ and that fosters a missional identity for the whole congregation. \n	Conceived more as a visioning lab than workshop\, Dr. Kent Burreson will offer background material on adult faith formation\, facilitate small group studies and discussions\, lead participants through experiential learning on ritual\, and moderate structured time designed for participants to formulate a plan for introducing an adult faith formation process in their congregations. Pastors from our research congregations will lead short sessions via Zoom to share their wisdom on various topics related to an adult catechumenate. \n	In the end\, faith formation is not a program\, not even a set of processes or practices\, but a way of life. Through the congregational life of community and worship\, teaching and preaching\, witness and service God transforms the baptized and the community\, deeply and broadly. \n\n\n\n\nDr. Kent Burreson\nAssociate Professor of Systematic Theology and the Louis A. Fincke and Anna B. Shine Professor of Systematic Theology at Concordia Seminary\, St. Louis\nFew people know the liturgical landscape as well as Dr. Kent Burreson. He has made a significant contribution to our understanding of the liturgy’s history — how it has remained the same and how it has changed. Just as importantly\, Burreson shows how the liturgy and our worship life forms the faith within us and shapes our lives within the world. \n\n\n	\n\n\n\n\nSchedule\n\n\nDAY\nTIME\n\n\nMonday\, June 26\n1-5:30 p.m.\n\n\nTuesday\, June 27\n8:30 a.m.-5:30 p.m.Lunch included\n\n\nWednesday\, June 28\n8:30 a.m.-noon\n\n\n\n\n	Registration cost: $140\n	Registration deadline: June 12\, 2023\n	Location contact: Timothy Roth\n	 \n	Register\n        Promo Video\n	More Workshops\n\n\nNote: The schedule is subject to change at the discretion of the workshop presenters. \n\n 
URL:https://stg.csl.matchbox.host/event/prof-insights-faculty-led-workshop-professor-burreson-in-ottawa-ks/
LOCATION:Faith Lutheran Church (Ottawa\, KS)\, 1320 W 15th St\, Ottawa\, KS\, 66067\, United States
CATEGORIES:Continuing Education,Faculty Speaking Engagement
ATTACH;FMTTYPE=image/jpeg:https://stg.csl.matchbox.host/wp-content/uploads/2023/03/prof-insights-event.jpg
ORGANIZER;CN="Continuing Education":MAILTO:ce@csl.edu
END:VEVENT
BEGIN:VEVENT
DTSTART;VALUE=DATE:20230626
DTEND;VALUE=DATE:20230701
DTSTAMP:20260425T131924
CREATED:20211223T232810Z
LAST-MODIFIED:20221006T184437Z
UID:174635-1687737600-1688169599@stg.csl.matchbox.host
SUMMARY:SMP & GPC intensive courses
DESCRIPTION:
URL:https://stg.csl.matchbox.host/event/smp-gpc-intensive-courses-summer-2023/
LOCATION:MO
CATEGORIES:Academics,Specific Ministry Pastor,Specific Ministry Pastor to General Pastor Certification
END:VEVENT
BEGIN:VEVENT
DTSTART;VALUE=DATE:20230627
DTEND;VALUE=DATE:20230630
DTSTAMP:20260425T131924
CREATED:20230322T131709Z
LAST-MODIFIED:20230613T203209Z
UID:180378-1687824000-1688083199@stg.csl.matchbox.host
SUMMARY:Prof Insights: Faculty-Led Workshop – Professor Scholz in Salina\, KS
DESCRIPTION:NEW! On Using Worldly Wealth\nDo we have a “theology of possessions?” Why don’t we talk about the “tithe?” What does the New Testament say about “worldly wealth” (Luke 16:9)? Is the principle “neither poverty nor riches” (Prov. 30:8) typical of what the Bible teaches about worldly wealth? Special attention will be given to Jesus’ teaching\, the experience of the Apostolic Church (according to the Book of Acts) and important Pauline passages (2 Cor. 8-9\, Phil. 4\, etc.). \n\n\n\n\nDr. Vilson Scholz\nVisiting Professor of Exegetical Theology at Concordia Seminary\, St. Louis\nBefore coming to Concordia Seminary in 2022\, Dr. Vilson Scholz served for 20 years as a translation consultant for United Bible Societies as well as a professor in Brazil for 36 years. He also helped revise the Portuguese translation of the Book of Concord and the Portuguese Bible. \n\n\n	\n\n\n\n\nSchedule\n\n\nDAY\nTIME\n\n\nTuesday\, June 27\n1-4 p.m.\n\n\nWednesday\, June 28\n9-11:30 a.m.\n\n\n\n1-4 p.m.\n\n\nThursday\, June 29\n9 a.m.-noon\n\n\n\n\n	Registration cost: $140\n	Registration deadline: June 13\, 2023\n	Location contact: Dennis Kootz\n	 \n	Register\n        Promo Video\n	More Workshops\n\n\nNote: The schedule is subject to change at the discretion of the workshop presenters. \n\n 
URL:https://stg.csl.matchbox.host/event/prof-insights-faculty-led-workshop-professor-scholz-in-salina-ks/
LOCATION:Trinity Lutheran Church (Salina\, KS)\, 702 S. 9th Street\, Salina\, KS\, 67401\, United States
CATEGORIES:Continuing Education,Faculty Speaking Engagement
ATTACH;FMTTYPE=image/jpeg:https://stg.csl.matchbox.host/wp-content/uploads/2023/03/prof-insights-event.jpg
ORGANIZER;CN="Continuing Education":MAILTO:ce@csl.edu
END:VEVENT
BEGIN:VEVENT
DTSTART;TZID=America/Chicago:20230627T190000
DTEND;TZID=America/Chicago:20230627T200000
DTSTAMP:20260425T131924
CREATED:20221007T164834Z
LAST-MODIFIED:20230627T172508Z
UID:176419-1687892400-1687896000@stg.csl.matchbox.host
SUMMARY:Summer Carillon Concert
DESCRIPTION:Elijah Harrison Buerk\n\n\n\nElijah Harrison Buerk is a composer\, organist\, carillonneur\, singer and conductor based in Metropolis\, Ill. He attends Indiana University Bloomington Jacobs School of Music where he has studied composition with Don Freund and PQ Phan\, organ with Janette Fishell and carillon with Lynnli Wang and Wade FitzGerald. He is originally from Centralia\, Ill.\,  where he studied with carillonneur Roy Kroezen. He sends his thanks to his many teachers\, mentors and especially his parents.\n	 \n\n\n\n\nProgram\n\n\n\n \nTITLE\nCOMPOSER\n\n\n \nBAROQUE AND CLASSICAL\n \n\n\n1\nAch bleib bei uns\, Herr Jesu Christ (BWV 649)\nJohann Sebastian Bach (1685−1750)\n\n\n2\nPieces for Musical Clocks a. Andante b. Menuett c. Allegretto d. Allegro Moderato\nFranz Joseph Haydn (1732−1809)\n\n\n3\nPiano Sonata No. 14\, Quasi una fantasia\, Op. 27\, No. 2 a. Adagio Sostenuto\nGiovanni Battista Martini (1706-84)\n\n\n \nORGAN WORKS FOR CARILLON\n \n\n\n1\nThree Short Pieces\nGary White (1937−)\n\n\n2\nÉtude a. Prelude and Pastorale c. Fantasy\, Yuugen d. Sarabande e. Arabesque\n John Courter (1941−)Yuko Minoda (1957−)Ronald Barnes (1927−97)Émilien Allard (1915−76)\n\n\n \nCLASSIC POPULAR SONGS\n \n\n\n1\nOver There\nGeorge Cohan (1878−1942)\n\n\n2\nWhen Irish Eyes Are Smiling\nErnest Ball (1878−1972)\n\n\n3\nIt’s A Long\, Long Way To Tipperary\nJack Judge (1872−1938) & Harry Williams\n\n\n4\nMoonlight Bay\nPercy Wenrich (1887−1952)\n\n\n \nPOSTLUDE\n \n\n\n \nPrelude II\nMatthias van den Gheyn (1721−85)\n\n\n\nArrangements:\nBAROQUE AND CLASSICAL1. Gert Oldenbeuving2. Albert Gerken3. Elijah BuerkCLASSIC POPULAR SONGS2. 3. 4. Richard Giszczak
URL:https://stg.csl.matchbox.host/event/summer-carillon-concert-2023-06-27/
LOCATION:Concordia Seminary\, St. Louis\, 801 Seminary Place\, St. Louis\, MO\, 63105\, United States
CATEGORIES:Concordia Seminary Music Series
ATTACH;FMTTYPE=image/jpeg:https://stg.csl.matchbox.host/wp-content/uploads/2022/10/cscs-event.jpg
ORGANIZER;CN="John Klinger":MAILTO:carillon@csl.edu
END:VEVENT
END:VCALENDAR