BEGIN:VCALENDAR
VERSION:2.0
PRODID:-//Concordia Seminary - ECPv6.13.1//NONSGML v1.0//EN
CALSCALE:GREGORIAN
METHOD:PUBLISH
X-ORIGINAL-URL:https://stg.csl.matchbox.host
X-WR-CALDESC:Events for Concordia Seminary
REFRESH-INTERVAL;VALUE=DURATION:PT1H
X-Robots-Tag:noindex
X-PUBLISHED-TTL:PT1H
BEGIN:VTIMEZONE
TZID:America/Chicago
BEGIN:DAYLIGHT
TZOFFSETFROM:-0600
TZOFFSETTO:-0500
TZNAME:CDT
DTSTART:20230312T080000
END:DAYLIGHT
BEGIN:STANDARD
TZOFFSETFROM:-0500
TZOFFSETTO:-0600
TZNAME:CST
DTSTART:20231105T070000
END:STANDARD
END:VTIMEZONE
BEGIN:VEVENT
DTSTART;VALUE=DATE:20230925
DTEND;VALUE=DATE:20230926
DTSTAMP:20260422T123050
CREATED:20220929T032746Z
LAST-MODIFIED:20230802T194850Z
UID:10005084-1695600000-1695686399@stg.csl.matchbox.host
SUMMARY:Give Green and Gold Day
DESCRIPTION:Mark your calendars for Sept. 25 and help make the fifth annual Give Green and Gold Day a success. This one-day of giving is aimed at supporting the mission of Concordia Seminary\, St. Louis. \nBy making a donation to the Seminary on Give Green and Gold Day\, you are helping us form pastors and deaconesses for generations to come who will lead the church and spread the Gospel to the ends of the earth. Each gift\, no matter the size\, is a gift for the future of the Seminary and its students.\n \nGive Now\n 
URL:https://stg.csl.matchbox.host/event/give-green-and-gold-day-2023/
LOCATION:MO
CATEGORIES:Support
ATTACH;FMTTYPE=image/jpeg:https://stg.csl.matchbox.host/wp-content/uploads/2022/09/gggd-feat-23.jpg
END:VEVENT
BEGIN:VEVENT
DTSTART;TZID=America/Chicago:20230925T163000
DTEND;TZID=America/Chicago:20230925T183000
DTSTAMP:20260422T123050
CREATED:20230814T182219Z
LAST-MODIFIED:20230829T173907Z
UID:10008245-1695659400-1695666600@stg.csl.matchbox.host
SUMMARY:Soccer Game vs. Fontbonne University
DESCRIPTION:
URL:https://stg.csl.matchbox.host/event/soccer-game-vs-fontbonne-university/
LOCATION:Athletic Field\, 801 Seminary Place\, St. Louis\, MO\, 63105\, United States
CATEGORIES:Soccer,Soccer
ATTACH;FMTTYPE=image/jpeg:https://stg.csl.matchbox.host/wp-content/uploads/2022/09/soccer-match.jpg
ORGANIZER;CN="Jamie Crustals":MAILTO:crustalsj@csl.edu
END:VEVENT
END:VCALENDAR