BEGIN:VCALENDAR
VERSION:2.0
PRODID:-//Concordia Seminary - ECPv6.13.1//NONSGML v1.0//EN
CALSCALE:GREGORIAN
METHOD:PUBLISH
X-ORIGINAL-URL:https://stg.csl.matchbox.host
X-WR-CALDESC:Events for Concordia Seminary
REFRESH-INTERVAL;VALUE=DURATION:PT1H
X-Robots-Tag:noindex
X-PUBLISHED-TTL:PT1H
BEGIN:VTIMEZONE
TZID:America/Chicago
BEGIN:DAYLIGHT
TZOFFSETFROM:-0600
TZOFFSETTO:-0500
TZNAME:CDT
DTSTART:20230312T080000
END:DAYLIGHT
BEGIN:STANDARD
TZOFFSETFROM:-0500
TZOFFSETTO:-0600
TZNAME:CST
DTSTART:20231105T070000
END:STANDARD
END:VTIMEZONE
BEGIN:VEVENT
DTSTART;TZID=America/Chicago:20231208T113000
DTEND;TZID=America/Chicago:20231208T133000
DTSTAMP:20260425T170155
CREATED:20230814T155513Z
LAST-MODIFIED:20230814T155513Z
UID:182854-1702035000-1702042200@stg.csl.matchbox.host
SUMMARY:Seminary Guild luncheon
DESCRIPTION:The Concordia Seminary Guild is an organization of individuals\, women’s organizations and congregations dedicated to providing support to the Concordia Seminary community\, its students and their families\, and staff. \nFriday\, Dec. 8\, 2023\n\n\n\nProgram:\nAdvent by Candlelight\nIncluding special music by: Laudamus\ndirected by Phillip Magness\, Cantor\, Village Lutheran Church\n\n\n11:30 a.m.\nRegistration\n\n\nNoon\nLuncheon\n\n\n\nIngathering: New socks and underwear\, size infant through 12 years\, for the Re-Sell It Shop. Bring items to Koburg Hall.\n\n\n\n \nLearn more\n 
URL:https://stg.csl.matchbox.host/event/seminary-guild-luncheon-10/
LOCATION:Koburg Dining Hall\, 801 Seminary Place\, St. Louis\, MO\, 63105
CATEGORIES:Seminary Guild
ATTACH;FMTTYPE=image/jpeg:https://stg.csl.matchbox.host/wp-content/uploads/2023/08/sem-guild-event.jpg
ORGANIZER;CN="Braddy%2C Kimberly":MAILTO:braddyk@csl.edu
END:VEVENT
BEGIN:VEVENT
DTSTART;TZID=America/Chicago:20231208T160000
DTEND;TZID=America/Chicago:20231208T180000
DTSTAMP:20260425T170155
CREATED:20230911T135326Z
LAST-MODIFIED:20231117T213407Z
UID:183286-1702051200-1702058400@stg.csl.matchbox.host
SUMMARY:Prof 'n Stein
DESCRIPTION:
URL:https://stg.csl.matchbox.host/event/prof-n-stein-dec/
LOCATION:Wartburg Commons\, 801 Seminary Place\, St. Louis\, MO\, 63105
CATEGORIES:Campus Events
ATTACH;FMTTYPE=image/jpeg:https://stg.csl.matchbox.host/wp-content/uploads/2023/09/prof-n-stein-event.jpg
END:VEVENT
END:VCALENDAR