BEGIN:VCALENDAR
VERSION:2.0
PRODID:-//Concordia Seminary - ECPv6.13.1//NONSGML v1.0//EN
CALSCALE:GREGORIAN
METHOD:PUBLISH
X-ORIGINAL-URL:https://stg.csl.matchbox.host
X-WR-CALDESC:Events for Concordia Seminary
REFRESH-INTERVAL;VALUE=DURATION:PT1H
X-Robots-Tag:noindex
X-PUBLISHED-TTL:PT1H
BEGIN:VTIMEZONE
TZID:America/Chicago
BEGIN:DAYLIGHT
TZOFFSETFROM:-0600
TZOFFSETTO:-0500
TZNAME:CDT
DTSTART:20240310T080000
END:DAYLIGHT
BEGIN:STANDARD
TZOFFSETFROM:-0500
TZOFFSETTO:-0600
TZNAME:CST
DTSTART:20241103T070000
END:STANDARD
END:VTIMEZONE
BEGIN:VEVENT
DTSTART;VALUE=DATE:20240514
DTEND;VALUE=DATE:20240515
DTSTAMP:20260425T105105
CREATED:20230609T202224Z
LAST-MODIFIED:20230609T202224Z
UID:181751-1715644800-1715731199@stg.csl.matchbox.host
SUMMARY:Spring Semester classes end for ODS Program
DESCRIPTION:
URL:https://stg.csl.matchbox.host/event/spring-semester-classes-end-for-ods-program-2/
LOCATION:MO
CATEGORIES:Deaconess Studies Online
END:VEVENT
BEGIN:VEVENT
DTSTART;TZID=America/Chicago:20240409T160000
DTEND;TZID=America/Chicago:20240409T170000
DTSTAMP:20260425T105105
CREATED:20231205T154947Z
LAST-MODIFIED:20231205T154947Z
UID:184082-1712678400-1712682000@stg.csl.matchbox.host
SUMMARY:Artificial Intelligence and Real Ministry
DESCRIPTION:Six-week online course begins Tuesday\, April 9\, 2024\nUnderstanding the significance and implications of Artificial Intelligence (AI) is becoming increasingly crucial for today’s pastors. A new six-week online continuing education course\, “Artificial Intelligence and Real Ministry\,” aims to provide a comprehensive overview\, highlighting key facets of AI and its potential implications in ministry. The course is offered in partnership by Concordia Seminary\, St. Louis (CSL) and Concordia University Wisconsin and Ann Arbor (CUWAA). \nSix sessions will be taught weekly from 4-5 p.m. (CT) Tuesday\, April 9\, through May 14\, 2024\, via Zoom. The course instructors include Dr. David Adams\, the W.G. Ray and Louis J. Rechzigel Professor of Biblical Studies at Concordia Seminary\, St. Louis\, Mo.; Christopher Brandt\, director of business intelligence at CUWAA;  Joshua Locklair\, assistant professor of Computer Science at CUWAA; and Brett Seider\, director of administrative computing at CUWAA.\n \nLearn more and register\n 
URL:https://stg.csl.matchbox.host/event/artificial-intelligence-and-real-ministry/
LOCATION:Online
CATEGORIES:Continuing Education
ATTACH;FMTTYPE=image/jpeg:https://stg.csl.matchbox.host/wp-content/uploads/2023/12/ai-ministry-e1701977259836.jpg
ORGANIZER;CN="Continuing Education":MAILTO:ce@csl.edu
END:VEVENT
BEGIN:VEVENT
DTSTART;TZID=America/Chicago:20240514T160000
DTEND;TZID=America/Chicago:20240514T180000
DTSTAMP:20260425T105105
CREATED:20240320T164827Z
LAST-MODIFIED:20240411T174743Z
UID:185296-1715702400-1715709600@stg.csl.matchbox.host
SUMMARY:Concordia Seminary Author Reception
DESCRIPTION:
URL:https://stg.csl.matchbox.host/event/concordia-seminary-author-reception-2024/
LOCATION:Kristine Kay Hasse Memorial Library\, 801 Seminary Place\, St. Louis\, MO\, 63105\, United States
CATEGORIES:Library
ATTACH;FMTTYPE=image/jpeg:https://stg.csl.matchbox.host/wp-content/uploads/2024/03/author-reception.jpg
ORGANIZER;CN="Melanie Appelbaum":MAILTO:appelbaumm@csl.edu
END:VEVENT
END:VCALENDAR