BEGIN:VCALENDAR
VERSION:2.0
PRODID:-//Concordia Seminary - ECPv6.13.1//NONSGML v1.0//EN
CALSCALE:GREGORIAN
METHOD:PUBLISH
X-ORIGINAL-URL:https://stg.csl.matchbox.host
X-WR-CALDESC:Events for Concordia Seminary
REFRESH-INTERVAL;VALUE=DURATION:PT1H
X-Robots-Tag:noindex
X-PUBLISHED-TTL:PT1H
BEGIN:VTIMEZONE
TZID:America/Chicago
BEGIN:DAYLIGHT
TZOFFSETFROM:-0600
TZOFFSETTO:-0500
TZNAME:CDT
DTSTART:20240310T080000
END:DAYLIGHT
BEGIN:STANDARD
TZOFFSETFROM:-0500
TZOFFSETTO:-0600
TZNAME:CST
DTSTART:20241103T070000
END:STANDARD
END:VTIMEZONE
BEGIN:VEVENT
DTSTART;VALUE=DATE:20240917
DTEND;VALUE=DATE:20240919
DTSTAMP:20260424T121241
CREATED:20240513T114758Z
LAST-MODIFIED:20240612T201353Z
UID:185649-1726531200-1726703999@stg.csl.matchbox.host
SUMMARY:34th Annual Theological Symposium
DESCRIPTION:Technology and the Church: Promise and Peril\nThe 34th Annual Theological Symposium will explore the opportunities and the challenges that contemporary technologies pose for the lives of individual Christians and for the entire church in life\, witness and service. How can the latest technology be used in service to the church’s mission? What dangers do technological advances pose and how can the church mitigate risk? Attend our symposium and find out.\n \nRegister Learn More\n 
URL:https://stg.csl.matchbox.host/event/34th-annual-theological-symposium/
LOCATION:Concordia Seminary\, St. Louis\, 801 Seminary Place\, St. Louis\, MO\, 63105\, United States
CATEGORIES:Continuing Education
ATTACH;FMTTYPE=image/jpeg:https://stg.csl.matchbox.host/wp-content/uploads/2024/05/ts-24-event.jpg
ORGANIZER;CN="Continuing Education":MAILTO:ce@csl.edu
END:VEVENT
END:VCALENDAR