BEGIN:VCALENDAR
VERSION:2.0
PRODID:-//Concordia Seminary - ECPv6.13.1//NONSGML v1.0//EN
CALSCALE:GREGORIAN
METHOD:PUBLISH
X-ORIGINAL-URL:https://stg.csl.matchbox.host
X-WR-CALDESC:Events for Concordia Seminary
REFRESH-INTERVAL;VALUE=DURATION:PT1H
X-Robots-Tag:noindex
X-PUBLISHED-TTL:PT1H
BEGIN:VTIMEZONE
TZID:America/Chicago
BEGIN:DAYLIGHT
TZOFFSETFROM:-0600
TZOFFSETTO:-0500
TZNAME:CDT
DTSTART:20240310T080000
END:DAYLIGHT
BEGIN:STANDARD
TZOFFSETFROM:-0500
TZOFFSETTO:-0600
TZNAME:CST
DTSTART:20241103T070000
END:STANDARD
BEGIN:DAYLIGHT
TZOFFSETFROM:-0600
TZOFFSETTO:-0500
TZNAME:CDT
DTSTART:20250309T080000
END:DAYLIGHT
BEGIN:STANDARD
TZOFFSETFROM:-0500
TZOFFSETTO:-0600
TZNAME:CST
DTSTART:20251102T070000
END:STANDARD
END:VTIMEZONE
BEGIN:VEVENT
DTSTART;VALUE=DATE:20240601
DTEND;VALUE=DATE:20240602
DTSTAMP:20260424T210117
CREATED:20230612T183611Z
LAST-MODIFIED:20230612T183611Z
UID:181969-1717200000-1717286399@stg.csl.matchbox.host
SUMMARY:W.B. Small Trust application deadline
DESCRIPTION:
URL:https://stg.csl.matchbox.host/event/w-b-small-trust-application-deadline/
LOCATION:MO
CATEGORIES:Financial Aid
END:VEVENT
BEGIN:VEVENT
DTSTART;VALUE=DATE:20250601
DTEND;VALUE=DATE:20250602
DTSTAMP:20260424T210117
CREATED:20240618T210918Z
LAST-MODIFIED:20240618T210918Z
UID:186343-1748736000-1748822399@stg.csl.matchbox.host
SUMMARY:Seventh Sunday of Easter
DESCRIPTION:Seventh Sunday of Easter\n\n\n\nFIRST READING\nActs 1:12–26\n\n\nPSALM\nPs. 133\n\n\nEPISTLE\nRev. 22:1–6 (7–11) 12–20\n\n\nGOSPEL\nJohn 17:20–26\n\n\n\n  \nColor\n\n 
URL:https://stg.csl.matchbox.host/event/seventh-sunday-of-easter-2025/
LOCATION:MO
CATEGORIES:Liturgical Calendar
END:VEVENT
BEGIN:VEVENT
DTSTART;VALUE=DATE:20250601
DTEND;VALUE=DATE:20250602
DTSTAMP:20260424T210117
CREATED:20250205T151627Z
LAST-MODIFIED:20250205T151627Z
UID:188422-1748736000-1748822399@stg.csl.matchbox.host
SUMMARY:Kansas District LLL and LWML Scholarships application deadline
DESCRIPTION:
URL:https://stg.csl.matchbox.host/event/kansas-district-lll-and-lwml-scholarships-application-deadline/
LOCATION:MO
CATEGORIES:Financial Aid
END:VEVENT
BEGIN:VEVENT
DTSTART;VALUE=DATE:20250601
DTEND;VALUE=DATE:20250602
DTSTAMP:20260424T210117
CREATED:20250205T152159Z
LAST-MODIFIED:20250205T152159Z
UID:188425-1748736000-1748822399@stg.csl.matchbox.host
SUMMARY:Toledo Lutheran Bowling League Scholarship application deadline
DESCRIPTION:
URL:https://stg.csl.matchbox.host/event/toledo-lutheran-bowling-league-scholarship-application-deadline/
LOCATION:MO
CATEGORIES:Financial Aid
END:VEVENT
END:VCALENDAR