BEGIN:VCALENDAR
VERSION:2.0
PRODID:-//Concordia Seminary - ECPv6.13.1//NONSGML v1.0//EN
CALSCALE:GREGORIAN
METHOD:PUBLISH
X-ORIGINAL-URL:https://stg.csl.matchbox.host
X-WR-CALDESC:Events for Concordia Seminary
REFRESH-INTERVAL;VALUE=DURATION:PT1H
X-Robots-Tag:noindex
X-PUBLISHED-TTL:PT1H
BEGIN:VTIMEZONE
TZID:America/Chicago
BEGIN:DAYLIGHT
TZOFFSETFROM:-0600
TZOFFSETTO:-0500
TZNAME:CDT
DTSTART:20250309T080000
END:DAYLIGHT
BEGIN:STANDARD
TZOFFSETFROM:-0500
TZOFFSETTO:-0600
TZNAME:CST
DTSTART:20251102T070000
END:STANDARD
END:VTIMEZONE
BEGIN:VEVENT
DTSTART;VALUE=DATE:20251005
DTEND;VALUE=DATE:20251008
DTSTAMP:20260424T162943
CREATED:20250807T140511Z
LAST-MODIFIED:20250807T140511Z
UID:190218-1759622400-1759881599@stg.csl.matchbox.host
SUMMARY:Vocatio: Retreat
DESCRIPTION:This three-day retreat held in the spring and fall for college students and second-career men and women offers an opportunity to learn more about the preparation that leads to service as a pastor\, deaconess\, missionary or chaplain. Registration is free and includes lodging and meals.\n \nRegister Learn More\n 
URL:https://stg.csl.matchbox.host/event/vocatio-retreat-2025-10/
LOCATION:Concordia Seminary\, St. Louis\, 801 Seminary Place\, St. Louis\, MO\, 63105\, United States
CATEGORIES:Recruitment,Visit
ATTACH;FMTTYPE=image/jpeg:https://stg.csl.matchbox.host/wp-content/uploads/2023/11/vocatio-retreat.jpg
END:VEVENT
BEGIN:VEVENT
DTSTART;VALUE=DATE:20251006
DTEND;VALUE=DATE:20251011
DTSTAMP:20260424T162943
CREATED:20250610T142757Z
LAST-MODIFIED:20250610T142757Z
UID:189611-1759708800-1760140799@stg.csl.matchbox.host
SUMMARY:Registration for Winterim and Spring Terms
DESCRIPTION:
URL:https://stg.csl.matchbox.host/event/registration-for-winterim-and-spring-terms-2026/
LOCATION:MO
CATEGORIES:Academics
END:VEVENT
BEGIN:VEVENT
DTSTART;TZID=America/Chicago:20251007T163000
DTEND;TZID=America/Chicago:20251007T180000
DTSTAMP:20260424T162943
CREATED:20250912T135612Z
LAST-MODIFIED:20250930T115542Z
UID:190515-1759854600-1759860000@stg.csl.matchbox.host
SUMMARY:Soccer Game vs. Yellow Mosquitos
DESCRIPTION:Concordia Seminary vs. Yellow Mosquitos
URL:https://stg.csl.matchbox.host/event/soccer-game-vs-yellow-mosquitos-2025-10/
LOCATION:Athletic Field\, 801 Seminary Place\, St. Louis\, MO\, 63105\, United States
CATEGORIES:Soccer
ATTACH;FMTTYPE=image/jpeg:https://stg.csl.matchbox.host/wp-content/uploads/2025/09/soccer-25.jpg
ORGANIZER;CN="Jamie Crustals":MAILTO:crustalsj@csl.edu
END:VEVENT
END:VCALENDAR