BEGIN:VCALENDAR
VERSION:2.0
PRODID:-//Concordia Seminary - ECPv6.13.1//NONSGML v1.0//EN
CALSCALE:GREGORIAN
METHOD:PUBLISH
X-ORIGINAL-URL:https://stg.csl.matchbox.host
X-WR-CALDESC:Events for Concordia Seminary
REFRESH-INTERVAL;VALUE=DURATION:PT1H
X-Robots-Tag:noindex
X-PUBLISHED-TTL:PT1H
BEGIN:VTIMEZONE
TZID:America/Chicago
BEGIN:DAYLIGHT
TZOFFSETFROM:-0600
TZOFFSETTO:-0500
TZNAME:CDT
DTSTART:20250309T080000
END:DAYLIGHT
BEGIN:STANDARD
TZOFFSETFROM:-0500
TZOFFSETTO:-0600
TZNAME:CST
DTSTART:20251102T070000
END:STANDARD
END:VTIMEZONE
BEGIN:VEVENT
DTSTART;VALUE=DATE:20251026
DTEND;VALUE=DATE:20251027
DTSTAMP:20260425T100008
CREATED:20240618T212626Z
LAST-MODIFIED:20240618T212626Z
UID:186385-1761436800-1761523199@stg.csl.matchbox.host
SUMMARY:Reformation Day (observed)
DESCRIPTION:Reformation Day (observed)\n\n\n\nFIRST READING\nRev. 14:6–7\n\n\nPSALM\nPs. 46\n\n\nEPISTLE\nRom. 3:19–28\n\n\nGOSPEL\nJohn 8:31–36 or Matt. 11:12–19\n\n\n\n  \nColor\n\n 
URL:https://stg.csl.matchbox.host/event/reformation-day-observed-2025/
LOCATION:MO
CATEGORIES:Liturgical Calendar
END:VEVENT
BEGIN:VEVENT
DTSTART;TZID=America/Chicago:20251026T160000
DTEND;TZID=America/Chicago:20251026T170000
DTSTAMP:20260425T100008
CREATED:20250912T164920Z
LAST-MODIFIED:20251013T164227Z
UID:190525-1761494400-1761498000@stg.csl.matchbox.host
SUMMARY:Reformation Vespers
DESCRIPTION:Reformation Vespers\nFeaturing Laudamus\, St. Louis Lutheran Chorale\, Concordia Seminary Children’s Choir\, Concordia Seminary Youth Choir and instrumentalists\n \nService Folder Media Kit\n 
URL:https://stg.csl.matchbox.host/event/reformation-vespers-2025/
LOCATION:Chapel of St. Timothy & St. Titus\, 801 Seminary Place\, St. Louis\, MO\, 63105\, United States
CATEGORIES:Chapel,Concordia Seminary Music Series,Laudamus
ATTACH;FMTTYPE=image/jpeg:https://stg.csl.matchbox.host/wp-content/uploads/2025/09/reformation-vespers.jpg
ORGANIZER;CN="Dr. Jon Vieker":MAILTO:viekerj@csl.edu
END:VEVENT
END:VCALENDAR