BEGIN:VCALENDAR
VERSION:2.0
PRODID:-//Concordia Seminary - ECPv6.13.1//NONSGML v1.0//EN
CALSCALE:GREGORIAN
METHOD:PUBLISH
X-ORIGINAL-URL:https://stg.csl.matchbox.host
X-WR-CALDESC:Events for Concordia Seminary
REFRESH-INTERVAL;VALUE=DURATION:PT1H
X-Robots-Tag:noindex
X-PUBLISHED-TTL:PT1H
BEGIN:VTIMEZONE
TZID:America/Chicago
BEGIN:DAYLIGHT
TZOFFSETFROM:-0600
TZOFFSETTO:-0500
TZNAME:CDT
DTSTART:20230312T080000
END:DAYLIGHT
BEGIN:STANDARD
TZOFFSETFROM:-0500
TZOFFSETTO:-0600
TZNAME:CST
DTSTART:20231105T070000
END:STANDARD
BEGIN:DAYLIGHT
TZOFFSETFROM:-0600
TZOFFSETTO:-0500
TZNAME:CDT
DTSTART:20240310T080000
END:DAYLIGHT
BEGIN:STANDARD
TZOFFSETFROM:-0500
TZOFFSETTO:-0600
TZNAME:CST
DTSTART:20241103T070000
END:STANDARD
BEGIN:DAYLIGHT
TZOFFSETFROM:-0600
TZOFFSETTO:-0500
TZNAME:CDT
DTSTART:20250309T080000
END:DAYLIGHT
BEGIN:STANDARD
TZOFFSETFROM:-0500
TZOFFSETTO:-0600
TZNAME:CST
DTSTART:20251102T070000
END:STANDARD
BEGIN:DAYLIGHT
TZOFFSETFROM:-0600
TZOFFSETTO:-0500
TZNAME:CDT
DTSTART:20260308T080000
END:DAYLIGHT
BEGIN:STANDARD
TZOFFSETFROM:-0500
TZOFFSETTO:-0600
TZNAME:CST
DTSTART:20261101T070000
END:STANDARD
END:VTIMEZONE
BEGIN:VEVENT
DTSTART;VALUE=DATE:20260620
DTEND;VALUE=DATE:20260627
DTSTAMP:20260425T064231
CREATED:20260203T212213Z
LAST-MODIFIED:20260209T135601Z
UID:191514-1781913600-1782518399@stg.csl.matchbox.host
SUMMARY:Vocatio: High School
DESCRIPTION:High school men and women entering grades nine through 12 can explore God’s calling and direction for them during Vocatio: High School. The registration fee is $300 per participant.\n \nLearn More\n 
URL:https://stg.csl.matchbox.host/event/vocatio-high-school-2026/
LOCATION:Concordia Seminary\, St. Louis\, 801 Seminary Place\, St. Louis\, MO\, 63105\, United States
CATEGORIES:Recruitment,Visit
ATTACH;FMTTYPE=image/jpeg:https://stg.csl.matchbox.host/wp-content/uploads/2023/11/vocatio-hs.jpg
END:VEVENT
BEGIN:VEVENT
DTSTART;VALUE=DATE:20260622
DTEND;VALUE=DATE:20260625
DTSTAMP:20260425T064231
CREATED:20260327T145405Z
LAST-MODIFIED:20260327T145405Z
UID:191951-1782086400-1782345599@stg.csl.matchbox.host
SUMMARY:Prof Insights: Faculty-Led Workshop: Professor Elowsky in Fargo\, ND
DESCRIPTION:The Apostolic Fathers\nA study of the primary literature of the Apostolic Fathers with application to the life of the church today. The study will primarily focus on the texts themselves\, with attention given to issues of authorship\, dating\, the integrity of the text and the occasion for the writing\, as well as major theological\, ecclesiological and social issues that the writings address\, such as martyrdom\, church order\, orthodoxy and heresy\, and early Christian rituals. \n\n\n\n\nDr. Joel Elowsky\nProfessor of Historical Theology\, Dean of Advanced Studies\, Director of the Center for the Study of Early Christian Texts\, and Frank and Valerie Fuerst Professor of Historical Theology\nDr. Joel Elowsky is professor of Historical Theology at Concordia Seminary\, St. Louis. He also is the director of the Seminary’s Center for the Study of Early Christian Texts and is a researcher for the Center for Early African Christianity at the Oden House in New Haven\, Conn. He has been a faculty member at Concordia Seminary since 2014. His interests and areas of expertise include early church studies\, the history of exegesis\, mission work and African Christianity. \n\n\n	\n\n\n\n\nSchedule\n\n\nDAY\nTIME\n\n\nMonday\, June 22\n1-4 p.m.\n\n\nTuesday\, June 23\n9 a.m.-4 p.m.\n\n\nWednesday\, June 24\n9 a.m.-noon\n\n\n\n\n	Registration fee: $160\n	Registration deadline: June 8\, 2026\n	Location contact: Pastor Bernie Worral\n	 \n	Register\n	More Workshops\n\n\nNote: The schedule is subject to change at the discretion of the workshop presenters. \n\n 
URL:https://stg.csl.matchbox.host/event/professor-elowsky-in-fargo-nd/
LOCATION:Immanuel Lutheran Church (Fargo\, ND)\, 1258 Broadway\, Fargo\, ND\, 58102\, United States
CATEGORIES:Continuing Education
ATTACH;FMTTYPE=image/jpeg:https://stg.csl.matchbox.host/wp-content/uploads/2025/03/prof-event.jpg
ORGANIZER;CN="Continuing Education":MAILTO:ce@csl.edu
END:VEVENT
BEGIN:VEVENT
DTSTART;VALUE=DATE:20260622
DTEND;VALUE=DATE:20260627
DTSTAMP:20260425T064231
CREATED:20250610T205743Z
LAST-MODIFIED:20250610T205743Z
UID:189686-1782086400-1782518399@stg.csl.matchbox.host
SUMMARY:SMP & GPC intensive courses
DESCRIPTION:
URL:https://stg.csl.matchbox.host/event/smp-gpc-intensive-courses-2026/
LOCATION:MO
CATEGORIES:Specific Ministry Pastor,Specific Ministry Pastor to General Pastor Certification
END:VEVENT
BEGIN:VEVENT
DTSTART;VALUE=DATE:20230624
DTEND;VALUE=DATE:20230625
DTSTAMP:20260425T064231
CREATED:20230612T174958Z
LAST-MODIFIED:20230612T174958Z
UID:181852-1687564800-1687651199@stg.csl.matchbox.host
SUMMARY:Nativity of St. John the Baptist
DESCRIPTION:
URL:https://stg.csl.matchbox.host/event/nativity-of-st-john-the-baptist/
LOCATION:MO
CATEGORIES:Liturgical Calendar
END:VEVENT
END:VCALENDAR