BEGIN:VCALENDAR
VERSION:2.0
PRODID:-//Concordia Seminary - ECPv6.13.1//NONSGML v1.0//EN
CALSCALE:GREGORIAN
METHOD:PUBLISH
X-ORIGINAL-URL:https://stg.csl.matchbox.host
X-WR-CALDESC:Events for Concordia Seminary
REFRESH-INTERVAL;VALUE=DURATION:PT1H
X-Robots-Tag:noindex
X-PUBLISHED-TTL:PT1H
BEGIN:VTIMEZONE
TZID:America/Chicago
BEGIN:DAYLIGHT
TZOFFSETFROM:-0600
TZOFFSETTO:-0500
TZNAME:CDT
DTSTART:20270314T080000
END:DAYLIGHT
BEGIN:STANDARD
TZOFFSETFROM:-0500
TZOFFSETTO:-0600
TZNAME:CST
DTSTART:20271107T070000
END:STANDARD
END:VTIMEZONE
BEGIN:VEVENT
DTSTART;VALUE=DATE:20270118
DTEND;VALUE=DATE:20270119
DTSTAMP:20260419T142513
CREATED:20230612T181118Z
LAST-MODIFIED:20230612T181118Z
UID:10008045-1800230400-1800316799@stg.csl.matchbox.host
SUMMARY:The Confession of St. Peter
DESCRIPTION:
URL:https://stg.csl.matchbox.host/event/the-confession-of-st-peter/2027-01-18/
CATEGORIES:Liturgical Calendar
END:VEVENT
BEGIN:VEVENT
DTSTART;VALUE=DATE:20270124
DTEND;VALUE=DATE:20270125
DTSTAMP:20260419T142513
CREATED:20230612T181217Z
LAST-MODIFIED:20230612T181217Z
UID:10008050-1800748800-1800835199@stg.csl.matchbox.host
SUMMARY:St. Timothy\, Pastor and Confessor
DESCRIPTION:
URL:https://stg.csl.matchbox.host/event/st-timothy-pastor-and-confessor/2027-01-24/
CATEGORIES:Liturgical Calendar
END:VEVENT
BEGIN:VEVENT
DTSTART;VALUE=DATE:20270125
DTEND;VALUE=DATE:20270126
DTSTAMP:20260419T142513
CREATED:20230612T181253Z
LAST-MODIFIED:20230612T181253Z
UID:10008055-1800835200-1800921599@stg.csl.matchbox.host
SUMMARY:The Conversion of St. Paul
DESCRIPTION:
URL:https://stg.csl.matchbox.host/event/the-conversion-of-st-paul/2027-01-25/
CATEGORIES:Liturgical Calendar
END:VEVENT
BEGIN:VEVENT
DTSTART;VALUE=DATE:20270126
DTEND;VALUE=DATE:20270127
DTSTAMP:20260419T142513
CREATED:20230612T181404Z
LAST-MODIFIED:20230612T181404Z
UID:10008060-1800921600-1801007999@stg.csl.matchbox.host
SUMMARY:St. Titus\, Pastor and Confessor
DESCRIPTION:
URL:https://stg.csl.matchbox.host/event/st-titus-pastor-and-confessor/2027-01-26/
CATEGORIES:Liturgical Calendar
END:VEVENT
END:VCALENDAR