BEGIN:VCALENDAR
VERSION:2.0
PRODID:-//Concordia Seminary - ECPv6.13.1//NONSGML v1.0//EN
CALSCALE:GREGORIAN
METHOD:PUBLISH
X-ORIGINAL-URL:https://stg.csl.matchbox.host
X-WR-CALDESC:Events for Concordia Seminary
REFRESH-INTERVAL;VALUE=DURATION:PT1H
X-Robots-Tag:noindex
X-PUBLISHED-TTL:PT1H
BEGIN:VTIMEZONE
TZID:America/Chicago
BEGIN:DAYLIGHT
TZOFFSETFROM:-0600
TZOFFSETTO:-0500
TZNAME:CDT
DTSTART:20250309T080000
END:DAYLIGHT
BEGIN:STANDARD
TZOFFSETFROM:-0500
TZOFFSETTO:-0600
TZNAME:CST
DTSTART:20251102T070000
END:STANDARD
END:VTIMEZONE
BEGIN:VEVENT
DTSTART;TZID=America/Chicago:20251109T120000
DTEND;TZID=America/Chicago:20251109T133000
DTSTAMP:20260422T182407
CREATED:20250908T161524Z
LAST-MODIFIED:20251005T134439Z
UID:10008864-1762689600-1762695000@stg.csl.matchbox.host
SUMMARY:Called to Serve
DESCRIPTION:We invite you to join Rev. Craig Reiter\, admissions officer\, for a free meal and presentation on the doctrine of vocation and an update on enrollment at Concordia Seminary\, St. Louis.\nWho should attend? \n\nThose exploring or interested in pursuing pastoral ministry\nThe Lutheran Church—Missouri Synod (LCMS) clergy and laity interested in helping recruit the next generation of church workers\n\nThere is no cost to attend this event\, but space is limited.\n \nRegister Bulletin Insert\n 
URL:https://stg.csl.matchbox.host/event/called-to-serve-2025-11-09/
LOCATION:Immanuel Lutheran Church (Valparaiso\, IN)\, 1700 Monticello Park Drive\, Valparaiso\, IN\, 46383\, United States
CATEGORIES:Admissions,Recruitment
ATTACH;FMTTYPE=image/jpeg:https://stg.csl.matchbox.host/wp-content/uploads/2025/09/called-to-serve.jpg
END:VEVENT
BEGIN:VEVENT
DTSTART;TZID=America/Chicago:20251110T173000
DTEND;TZID=America/Chicago:20251110T190000
DTSTAMP:20260422T182407
CREATED:20251002T181521Z
LAST-MODIFIED:20251014T143956Z
UID:10008882-1762795800-1762801200@stg.csl.matchbox.host
SUMMARY:Called to Serve
DESCRIPTION:We invite you to join Rev. Joel Heckmann\, admissions officer\, for a free meal and presentation on the doctrine of vocation and an update on enrollment at Concordia Seminary\, St. Louis.\nWho should attend? \n\nThose exploring or interested in pursuing pastoral ministry\nThe Lutheran Church—Missouri Synod (LCMS) clergy and laity interested in helping recruit the next generation of church workers\n\nThere is no cost to attend this event\, but space is limited.\n \nRegister Bulletin Insert\n 
URL:https://stg.csl.matchbox.host/event/called-to-serve-2025-11-10/
LOCATION:Redeemer Lutheran Church (Nacogdoches\, TX)\, Nacogdoches\, TX\, 75965\, United States
CATEGORIES:Admissions,Recruitment
ATTACH;FMTTYPE=image/jpeg:https://stg.csl.matchbox.host/wp-content/uploads/2025/09/called-to-serve.jpg
END:VEVENT
BEGIN:VEVENT
DTSTART;TZID=America/Chicago:20251111T180000
DTEND;TZID=America/Chicago:20251111T193000
DTSTAMP:20260422T182407
CREATED:20251002T180434Z
LAST-MODIFIED:20251111T163348Z
UID:10008881-1762884000-1762889400@stg.csl.matchbox.host
SUMMARY:Called to Serve
DESCRIPTION:We invite you to join Rev. Joel Heckmann\, admissions officer\, and Rev. Jesse Kueker\, director of Enrollment\, for a free meal and presentation on the doctrine of vocation and an update on enrollment at Concordia Seminary\, St. Louis.\nWho should attend? \n\nThose exploring or interested in pursuing pastoral ministry\nThe Lutheran Church—Missouri Synod (LCMS) clergy and laity interested in helping recruit the next generation of church workers\n\nThere is no cost to attend this event\, but space is limited.\n \nRegister Bulletin Insert\n 
URL:https://stg.csl.matchbox.host/event/called-to-serve-2025-11-11/
LOCATION:Texas A&M University Lutheran Chapel\, 315 College Main\, Colleg Station\, Texas\, 77840
CATEGORIES:Admissions,Recruitment
ATTACH;FMTTYPE=image/jpeg:https://stg.csl.matchbox.host/wp-content/uploads/2025/09/called-to-serve.jpg
END:VEVENT
END:VCALENDAR