BEGIN:VCALENDAR
VERSION:2.0
PRODID:-//Concordia Seminary - ECPv6.13.1//NONSGML v1.0//EN
CALSCALE:GREGORIAN
METHOD:PUBLISH
X-ORIGINAL-URL:https://stg.csl.matchbox.host
X-WR-CALDESC:Events for Concordia Seminary
REFRESH-INTERVAL;VALUE=DURATION:PT1H
X-Robots-Tag:noindex
X-PUBLISHED-TTL:PT1H
BEGIN:VTIMEZONE
TZID:America/Chicago
BEGIN:DAYLIGHT
TZOFFSETFROM:-0600
TZOFFSETTO:-0500
TZNAME:CDT
DTSTART:20250309T080000
END:DAYLIGHT
BEGIN:STANDARD
TZOFFSETFROM:-0500
TZOFFSETTO:-0600
TZNAME:CST
DTSTART:20251102T070000
END:STANDARD
BEGIN:DAYLIGHT
TZOFFSETFROM:-0600
TZOFFSETTO:-0500
TZNAME:CDT
DTSTART:20260308T080000
END:DAYLIGHT
BEGIN:STANDARD
TZOFFSETFROM:-0500
TZOFFSETTO:-0600
TZNAME:CST
DTSTART:20261101T070000
END:STANDARD
END:VTIMEZONE
BEGIN:VEVENT
DTSTART;VALUE=DATE:20260301
DTEND;VALUE=DATE:20260302
DTSTAMP:20260419T185130
CREATED:20250612T143144Z
LAST-MODIFIED:20250612T143144Z
UID:10008789-1772323200-1772409599@stg.csl.matchbox.host
SUMMARY:Second Sunday in Lent
DESCRIPTION:Second Sunday in Lent\n\n\n\nFIRST READING\nGen. 12:1–9\n\n\nPSALM\nPs. 121\n\n\nEPISTLE\nRom. 4:1–8\, 13–17\n\n\nGOSPEL\nJohn 3:1–17\n\n\n\n  \nColor\n\n 
URL:https://stg.csl.matchbox.host/event/second-sunday-in-lent-2026/
LOCATION:MN
CATEGORIES:Liturgical Calendar
END:VEVENT
BEGIN:VEVENT
DTSTART;VALUE=DATE:20260301
DTEND;VALUE=DATE:20260302
DTSTAMP:20260419T185130
CREATED:20230612T182201Z
LAST-MODIFIED:20230612T182201Z
UID:10008089-1772323200-1772409599@stg.csl.matchbox.host
SUMMARY:St. Philip and St. James\, Apostles
DESCRIPTION:
URL:https://stg.csl.matchbox.host/event/st-philip-and-st-james-apostles/2026-03-01/
LOCATION:MN
CATEGORIES:Liturgical Calendar
END:VEVENT
BEGIN:VEVENT
DTSTART;VALUE=DATE:20260224
DTEND;VALUE=DATE:20260225
DTSTAMP:20260419T185130
CREATED:20230612T181710Z
LAST-MODIFIED:20230612T181710Z
UID:10008069-1771891200-1771977599@stg.csl.matchbox.host
SUMMARY:St. Matthias\, Apostle
DESCRIPTION:
URL:https://stg.csl.matchbox.host/event/st-matthias-apostle/2026-02-24/
LOCATION:MN
CATEGORIES:Liturgical Calendar
END:VEVENT
BEGIN:VEVENT
DTSTART;VALUE=DATE:20260222
DTEND;VALUE=DATE:20260223
DTSTAMP:20260419T185130
CREATED:20250612T143033Z
LAST-MODIFIED:20250612T143033Z
UID:10008788-1771718400-1771804799@stg.csl.matchbox.host
SUMMARY:First Sunday in Lent
DESCRIPTION:First Sunday in Lent\n\n\n\nFIRST READING\nGen. 3:1–21\n\n\nPSALM\nPs. 32:1–7\n\n\nEPISTLE\nRom. 5:12–19\n\n\nGOSPEL\nMatt. 4:1–11\n\n\n\n  \nColor\n\n 
URL:https://stg.csl.matchbox.host/event/first-sunday-in-lent-2026/
LOCATION:MN
CATEGORIES:Liturgical Calendar
END:VEVENT
BEGIN:VEVENT
DTSTART;VALUE=DATE:20260218
DTEND;VALUE=DATE:20260219
DTSTAMP:20260419T185130
CREATED:20250612T142920Z
LAST-MODIFIED:20250612T142920Z
UID:10008787-1771372800-1771459199@stg.csl.matchbox.host
SUMMARY:Ash Wednesday
DESCRIPTION:Ash Wednesday\n\n\n\nFIRST READING\nJoel 2:12–19\n\n\nPSALM\nPs. 51:1–13 (14–19)\n\n\nEPISTLE\n2 Cor. 5:20b—6:10\n\n\nGOSPEL\nMatt. 6:1–6\, 16–21\n\n\n\n  \nColor\n\n 
URL:https://stg.csl.matchbox.host/event/ash-wednesday-2026/
LOCATION:MN
CATEGORIES:Liturgical Calendar
END:VEVENT
BEGIN:VEVENT
DTSTART;VALUE=DATE:20260215
DTEND;VALUE=DATE:20260216
DTSTAMP:20260419T185130
CREATED:20250612T142809Z
LAST-MODIFIED:20250612T142809Z
UID:10008786-1771113600-1771199999@stg.csl.matchbox.host
SUMMARY:The Transfiguration of Our Lord
DESCRIPTION:The Transfiguration of Our Lord\n\n\n\nFIRST READING\nEx. 24:8–18\n\n\nPSALM\nPs. 2:6–12\n\n\nEPISTLE\n2 Peter 1:16–21\n\n\nGOSPEL\nMatt. 17:1–9\n\n\n\n  \nColor\n\n 
URL:https://stg.csl.matchbox.host/event/the-transfiguration-of-our-lord-2026/
LOCATION:MN
CATEGORIES:Liturgical Calendar
END:VEVENT
BEGIN:VEVENT
DTSTART;VALUE=DATE:20260208
DTEND;VALUE=DATE:20260209
DTSTAMP:20260419T185130
CREATED:20250612T142706Z
LAST-MODIFIED:20250612T142706Z
UID:10008785-1770508800-1770595199@stg.csl.matchbox.host
SUMMARY:Fifth Sunday after Epiphany
DESCRIPTION:Fifth Sunday after Epiphany\n\n\n\nFIRST READING\nIs. 58:3–9a\n\n\nPSALM\nPs. 112:1–9\n\n\nEPISTLE\n1 Cor. 2:1–12 (13–16)\n\n\nGOSPEL\nMatt. 5:13–20\n\n\n\n  \nColor\n\n 
URL:https://stg.csl.matchbox.host/event/fifth-sunday-after-epiphany-2026/
LOCATION:MN
CATEGORIES:Liturgical Calendar
END:VEVENT
BEGIN:VEVENT
DTSTART;VALUE=DATE:20260201
DTEND;VALUE=DATE:20260202
DTSTAMP:20260419T185130
CREATED:20250612T142543Z
LAST-MODIFIED:20250612T142543Z
UID:10008784-1769904000-1769990399@stg.csl.matchbox.host
SUMMARY:Fourth Sunday after Epiphany
DESCRIPTION:Fourth Sunday after Epiphany\n\n\n\nFIRST READING\nMicah 6:1–8\n\n\nPSALM\nPs. 15\n\n\nEPISTLE\n1 Cor. 1:18–31\n\n\nGOSPEL\nMatt. 5:1–12\n\n\n\n  \nColor\n\n 
URL:https://stg.csl.matchbox.host/event/fourth-sunday-after-epiphany-2026/
LOCATION:MN
CATEGORIES:Liturgical Calendar
END:VEVENT
BEGIN:VEVENT
DTSTART;VALUE=DATE:20260126
DTEND;VALUE=DATE:20260127
DTSTAMP:20260419T185130
CREATED:20230612T181404Z
LAST-MODIFIED:20230612T181404Z
UID:10008059-1769385600-1769471999@stg.csl.matchbox.host
SUMMARY:St. Titus\, Pastor and Confessor
DESCRIPTION:
URL:https://stg.csl.matchbox.host/event/st-titus-pastor-and-confessor/2026-01-26/
LOCATION:MN
CATEGORIES:Liturgical Calendar
END:VEVENT
BEGIN:VEVENT
DTSTART;VALUE=DATE:20260125
DTEND;VALUE=DATE:20260126
DTSTAMP:20260419T185130
CREATED:20250612T142412Z
LAST-MODIFIED:20250612T142412Z
UID:10008783-1769299200-1769385599@stg.csl.matchbox.host
SUMMARY:Third Sunday after Epiphany
DESCRIPTION:Third Sunday after Epiphany\n\n\n\nFIRST READING\nIs. 9:1–4\n\n\nPSALM\nPs. 27:1–9 (10–14)\n\n\nEPISTLE\n1 Cor. 1:10–18\n\n\nGOSPEL\nMatt. 4:12–25\n\n\n\n  \nColor\n\n 
URL:https://stg.csl.matchbox.host/event/third-sunday-after-epiphany-2026/
LOCATION:MN
CATEGORIES:Liturgical Calendar
END:VEVENT
BEGIN:VEVENT
DTSTART;VALUE=DATE:20260125
DTEND;VALUE=DATE:20260126
DTSTAMP:20260419T185130
CREATED:20230612T181253Z
LAST-MODIFIED:20230612T181253Z
UID:10008054-1769299200-1769385599@stg.csl.matchbox.host
SUMMARY:The Conversion of St. Paul
DESCRIPTION:
URL:https://stg.csl.matchbox.host/event/the-conversion-of-st-paul/2026-01-25/
LOCATION:MN
CATEGORIES:Liturgical Calendar
END:VEVENT
BEGIN:VEVENT
DTSTART;VALUE=DATE:20260124
DTEND;VALUE=DATE:20260125
DTSTAMP:20260419T185130
CREATED:20230612T181217Z
LAST-MODIFIED:20230612T181217Z
UID:10008049-1769212800-1769299199@stg.csl.matchbox.host
SUMMARY:St. Timothy\, Pastor and Confessor
DESCRIPTION:
URL:https://stg.csl.matchbox.host/event/st-timothy-pastor-and-confessor/2026-01-24/
LOCATION:MN
CATEGORIES:Liturgical Calendar
END:VEVENT
BEGIN:VEVENT
DTSTART;VALUE=DATE:20260118
DTEND;VALUE=DATE:20260119
DTSTAMP:20260419T185130
CREATED:20250612T142318Z
LAST-MODIFIED:20250612T142318Z
UID:10008782-1768694400-1768780799@stg.csl.matchbox.host
SUMMARY:Second Sunday after Epiphany
DESCRIPTION:Second Sunday after Epiphany\n\n\n\nFIRST READING\nIs. 49:1–7\n\n\nPSALM\nPs. 40:1–11\n\n\nEPISTLE\n1 Cor. 1:1–9\n\n\nGOSPEL\nJohn 1:29–42a\n\n\n\n  \nColor\n\n 
URL:https://stg.csl.matchbox.host/event/second-sunday-after-epiphany-2026/
LOCATION:MN
CATEGORIES:Liturgical Calendar
END:VEVENT
BEGIN:VEVENT
DTSTART;VALUE=DATE:20260118
DTEND;VALUE=DATE:20260119
DTSTAMP:20260419T185130
CREATED:20230612T181118Z
LAST-MODIFIED:20230612T181118Z
UID:10008044-1768694400-1768780799@stg.csl.matchbox.host
SUMMARY:The Confession of St. Peter
DESCRIPTION:
URL:https://stg.csl.matchbox.host/event/the-confession-of-st-peter/2026-01-18/
LOCATION:MN
CATEGORIES:Liturgical Calendar
END:VEVENT
BEGIN:VEVENT
DTSTART;VALUE=DATE:20260111
DTEND;VALUE=DATE:20260112
DTSTAMP:20260419T185130
CREATED:20250612T142217Z
LAST-MODIFIED:20250612T142217Z
UID:10008781-1768089600-1768175999@stg.csl.matchbox.host
SUMMARY:The Baptism of Our Lord
DESCRIPTION:The Baptism of Our Lord\n\n\n\nFIRST READING\nIs. 42:1–9\n\n\nPSALM\nPs. 29\n\n\nEPISTLE\nRom. 6:1–11\n\n\nGOSPEL\nMatt. 3:13–17\n\n\n\n  \nColor\n\n 
URL:https://stg.csl.matchbox.host/event/the-baptism-of-our-lord-2026/
LOCATION:MN
CATEGORIES:Liturgical Calendar
END:VEVENT
BEGIN:VEVENT
DTSTART;VALUE=DATE:20260106
DTEND;VALUE=DATE:20260107
DTSTAMP:20260419T185130
CREATED:20250612T142059Z
LAST-MODIFIED:20251203T165454Z
UID:10008780-1767657600-1767743999@stg.csl.matchbox.host
SUMMARY:The Epiphany of Our Lord
DESCRIPTION:The Epiphany of Our Lord\n\n\n\nFIRST READING\nIs. 60:1–6\n\n\nPSALM\nPs. 72:1–11 (12–15)\n\n\nEPISTLE\nEph. 3:1–12\n\n\nGOSPEL\nMatt. 2:1–12\n\n\n\n  \nColor\n\n 
URL:https://stg.csl.matchbox.host/event/the-epiphany-of-our-lord-2026/
LOCATION:MN
CATEGORIES:Liturgical Calendar
ATTACH;FMTTYPE=image/jpeg:https://stg.csl.matchbox.host/wp-content/uploads/2025/06/epiphany-event.jpg
END:VEVENT
BEGIN:VEVENT
DTSTART;VALUE=DATE:20260104
DTEND;VALUE=DATE:20260105
DTSTAMP:20260419T185130
CREATED:20250612T142008Z
LAST-MODIFIED:20250612T142008Z
UID:10008779-1767484800-1767571199@stg.csl.matchbox.host
SUMMARY:Second Sunday after Christmas
DESCRIPTION:Second Sunday after Christmas\n\n\n\nFIRST READING\n1 Kings 3:4–15\n\n\nPSALM\nPs. 119:97–104\n\n\nEPISTLE\nEph. 1:3–14\n\n\nGOSPEL\nLuke 2:40–52\n\n\n\n  \nColor\n\n 
URL:https://stg.csl.matchbox.host/event/second-sunday-after-christmas/
LOCATION:MN
CATEGORIES:Liturgical Calendar
END:VEVENT
BEGIN:VEVENT
DTSTART;VALUE=DATE:20260101
DTEND;VALUE=DATE:20260102
DTSTAMP:20260419T185130
CREATED:20250612T141843Z
LAST-MODIFIED:20250612T141843Z
UID:10008778-1767225600-1767311999@stg.csl.matchbox.host
SUMMARY:The Circumcision and Name of Jesus
DESCRIPTION:The Circumcision and Name of Jesus\n\n\n\nFIRST READING\nNum. 6:22–27\n\n\nPSALM\nPs. 8\n\n\nEPISTLE\nGal. 3:23–29\n\n\nGOSPEL\nLuke 2:21\n\n\n\n  \nColor\n\n 
URL:https://stg.csl.matchbox.host/event/the-circumcision-and-name-of-jesus/
LOCATION:MN
CATEGORIES:Liturgical Calendar
END:VEVENT
BEGIN:VEVENT
DTSTART;VALUE=DATE:20251231
DTEND;VALUE=DATE:20260101
DTSTAMP:20260419T185130
CREATED:20250612T141637Z
LAST-MODIFIED:20250612T141637Z
UID:10008777-1767139200-1767225599@stg.csl.matchbox.host
SUMMARY:Eve of the Circumcision and Name of Jesus
DESCRIPTION:Eve of the Circumcision and Name of Jesus\n\n\n\nFIRST READING\nIs. 30:(8–14) 15–17\n\n\nPSALM\nPs. 90:1–12\n\n\nEPISTLE\nRom. 8:31b–39\n\n\nGOSPEL\nLuke 12:35–40\n\n\n\n  \nColor\n\n 
URL:https://stg.csl.matchbox.host/event/eve-of-the-circumcision-and-name-of-jesus/
LOCATION:MN
CATEGORIES:Liturgical Calendar
END:VEVENT
BEGIN:VEVENT
DTSTART;VALUE=DATE:20251228
DTEND;VALUE=DATE:20251229
DTSTAMP:20260419T185130
CREATED:20250612T141519Z
LAST-MODIFIED:20250612T141536Z
UID:10008776-1766880000-1766966399@stg.csl.matchbox.host
SUMMARY:First Sunday after Christmas
DESCRIPTION:First Sunday after Christmas\n\n\n\nFIRST READING\nIs. 63:7–14\n\n\nPSALM\nPs. 111\n\n\nEPISTLE\nGal. 4:4–7\n\n\nGOSPEL\nMatt. 2:13–23\n\n\n\n  \nColor\n\n 
URL:https://stg.csl.matchbox.host/event/first-sunday-after-christmas-2025/
LOCATION:MN
CATEGORIES:Liturgical Calendar
END:VEVENT
BEGIN:VEVENT
DTSTART;VALUE=DATE:20251228
DTEND;VALUE=DATE:20251229
DTSTAMP:20260419T185130
CREATED:20230612T181007Z
LAST-MODIFIED:20230612T181007Z
UID:10008039-1766880000-1766966399@stg.csl.matchbox.host
SUMMARY:The Holy Innocents\, Martyrs
DESCRIPTION:
URL:https://stg.csl.matchbox.host/event/the-holy-innocents-martyrs/2025-12-28/
LOCATION:MN
CATEGORIES:Liturgical Calendar
END:VEVENT
BEGIN:VEVENT
DTSTART;VALUE=DATE:20251227
DTEND;VALUE=DATE:20251228
DTSTAMP:20260419T185130
CREATED:20230612T180922Z
LAST-MODIFIED:20230612T180922Z
UID:10008034-1766793600-1766879999@stg.csl.matchbox.host
SUMMARY:St. John\, Apostle and Evangelist
DESCRIPTION:
URL:https://stg.csl.matchbox.host/event/st-john-apostle-and-evangelist/2025-12-27/
LOCATION:MN
CATEGORIES:Liturgical Calendar
END:VEVENT
BEGIN:VEVENT
DTSTART;VALUE=DATE:20251226
DTEND;VALUE=DATE:20251227
DTSTAMP:20260419T185130
CREATED:20230612T180845Z
LAST-MODIFIED:20230612T180845Z
UID:10008029-1766707200-1766793599@stg.csl.matchbox.host
SUMMARY:St. Stephen\, Martyr
DESCRIPTION:
URL:https://stg.csl.matchbox.host/event/st-stephen-martyr/2025-12-26/
LOCATION:MN
CATEGORIES:Liturgical Calendar
END:VEVENT
BEGIN:VEVENT
DTSTART;VALUE=DATE:20251225
DTEND;VALUE=DATE:20251226
DTSTAMP:20260419T185130
CREATED:20250612T140654Z
LAST-MODIFIED:20251017T124200Z
UID:10008775-1766620800-1766707199@stg.csl.matchbox.host
SUMMARY:The Nativity of Our Lord
DESCRIPTION:Christmas Midnight\n\n\n\nFIRST READING\nIs. 9:2–7\n\n\nPSALM\nPs. 96\n\n\nEPISTLE\nTitus 2:11–14\n\n\nGOSPEL\nLuke 2:1–14 (15–20)\n\n\n\n  \nChristmas Dawn\n\n\n\nFIRST READING\nIs. 62:10–12\n\n\nPSALM\nPs. 98\n\n\nEPISTLE\nTitus 3:4–7\n\n\nGOSPEL\nLuke 2:(1–14) 15–20\n\n\n\n  \nChristmas Day\n\n\n\nFIRST READING\nIs. 52:7–10\n\n\nPSALM\nPs. 2\n\n\nEPISTLE\nHeb.1:1–6 (7–12)\n\n\nGOSPEL\nJohn 1:1–14 (15–18)\n\n\n\n  \nColor\n\n 
URL:https://stg.csl.matchbox.host/event/the-nativity-of-our-lord-2025/
LOCATION:MN
CATEGORIES:Liturgical Calendar
ATTACH;FMTTYPE=image/jpeg:https://stg.csl.matchbox.host/wp-content/uploads/2022/10/christmas.jpg
END:VEVENT
BEGIN:VEVENT
DTSTART;VALUE=DATE:20251224
DTEND;VALUE=DATE:20251225
DTSTAMP:20260419T185130
CREATED:20250612T140357Z
LAST-MODIFIED:20250612T141426Z
UID:10008774-1766534400-1766620799@stg.csl.matchbox.host
SUMMARY:The Nativity of Our Lord (Christmas Eve)
DESCRIPTION:The Nativity of Our Lord (Christmas Eve)\n\n\n\nFIRST READING\nIs. 7:10–14\n\n\nPSALM\nPs. 110:1–4\n\n\nEPISTLE\n1 John 4:7–16\n\n\nGOSPEL\nMatt. 1:18–25\n\n\n\n  \nColor\n\n 
URL:https://stg.csl.matchbox.host/event/the-nativity-of-our-lord-christmas-eve-2025/
LOCATION:MN
CATEGORIES:Liturgical Calendar
ATTACH;FMTTYPE=image/jpeg:https://stg.csl.matchbox.host/wp-content/uploads/2022/10/christmas.jpg
END:VEVENT
BEGIN:VEVENT
DTSTART;VALUE=DATE:20251221
DTEND;VALUE=DATE:20251222
DTSTAMP:20260419T185130
CREATED:20250612T134423Z
LAST-MODIFIED:20250612T134423Z
UID:10008773-1766275200-1766361599@stg.csl.matchbox.host
SUMMARY:Fourth Sunday in Advent
DESCRIPTION:Fourth Sunday in Advent\n\n\n\nFIRST READING\nIs. 7:10–17\n\n\nPSALM\nPs. 24\n\n\nEPISTLE\nRom. 1:1–7\n\n\nGOSPEL\nMatt. 1:18–25\n\n\n\n  \nColor\n\n 
URL:https://stg.csl.matchbox.host/event/fourth-sunday-in-advent-2025/
LOCATION:MN
CATEGORIES:Liturgical Calendar
END:VEVENT
BEGIN:VEVENT
DTSTART;VALUE=DATE:20251221
DTEND;VALUE=DATE:20251222
DTSTAMP:20260419T185130
CREATED:20230612T180804Z
LAST-MODIFIED:20230612T180804Z
UID:10008024-1766275200-1766361599@stg.csl.matchbox.host
SUMMARY:St. Thomas\, Apostle
DESCRIPTION:
URL:https://stg.csl.matchbox.host/event/st-thomas-apostle/2025-12-21/
LOCATION:MN
CATEGORIES:Liturgical Calendar
END:VEVENT
BEGIN:VEVENT
DTSTART;VALUE=DATE:20251214
DTEND;VALUE=DATE:20251215
DTSTAMP:20260419T185130
CREATED:20250612T134316Z
LAST-MODIFIED:20250612T134316Z
UID:10008772-1765670400-1765756799@stg.csl.matchbox.host
SUMMARY:Third Sunday in Advent
DESCRIPTION:Third Sunday in Advent\n\n\n\nFIRST READING\nIs. 35:1–10\n\n\nPSALM\nPs. 146\n\n\nEPISTLE\nJames 5:7–11\n\n\nGOSPEL\nMatt. 1:18–25\n\n\n\n  \nColor\n\n 
URL:https://stg.csl.matchbox.host/event/third-sunday-in-advent-2025/
LOCATION:MN
CATEGORIES:Liturgical Calendar
END:VEVENT
BEGIN:VEVENT
DTSTART;VALUE=DATE:20251207
DTEND;VALUE=DATE:20251208
DTSTAMP:20260419T185130
CREATED:20250612T134148Z
LAST-MODIFIED:20250612T134205Z
UID:10008771-1765065600-1765151999@stg.csl.matchbox.host
SUMMARY:Second Sunday in Advent
DESCRIPTION:Second Sunday in Advent\n\n\n\nFIRST READING\nIs. 11:1–10\n\n\nPSALM\nPs. 72:1–72\n\n\nEPISTLE\nRom. 15:4–13\n\n\nGOSPEL\nMatt. 3:1–12\n\n\n\n  \nColor\n\n 
URL:https://stg.csl.matchbox.host/event/second-sunday-in-advent-2025/
LOCATION:MN
CATEGORIES:Liturgical Calendar
END:VEVENT
BEGIN:VEVENT
DTSTART;VALUE=DATE:20251130
DTEND;VALUE=DATE:20251201
DTSTAMP:20260419T185130
CREATED:20250611T174740Z
LAST-MODIFIED:20250611T174755Z
UID:10008770-1764460800-1764547199@stg.csl.matchbox.host
SUMMARY:First Sunday in Advent
DESCRIPTION:First Sunday in Advent\n\n\n\nFIRST READING\nIsaiah 2:1–5\n\n\nPSALM\nPs. 122\n\n\nEPISTLE\nRom. 13:(8–10) 11–14\n\n\nGOSPEL\nMatt. 21:1–11 orMatt. 24:36–44\n\n\n\n  \nColor\n\n 
URL:https://stg.csl.matchbox.host/event/first-sunday-in-advent-2025/
LOCATION:MN
CATEGORIES:Liturgical Calendar
END:VEVENT
END:VCALENDAR