BEGIN:VCALENDAR
VERSION:2.0
PRODID:-//Concordia Seminary - ECPv6.13.1//NONSGML v1.0//EN
CALSCALE:GREGORIAN
METHOD:PUBLISH
X-ORIGINAL-URL:https://stg.csl.matchbox.host
X-WR-CALDESC:Events for Concordia Seminary
REFRESH-INTERVAL;VALUE=DURATION:PT1H
X-Robots-Tag:noindex
X-PUBLISHED-TTL:PT1H
BEGIN:VTIMEZONE
TZID:America/Chicago
BEGIN:DAYLIGHT
TZOFFSETFROM:-0600
TZOFFSETTO:-0500
TZNAME:CDT
DTSTART:20220313T080000
END:DAYLIGHT
BEGIN:STANDARD
TZOFFSETFROM:-0500
TZOFFSETTO:-0600
TZNAME:CST
DTSTART:20221106T070000
END:STANDARD
BEGIN:DAYLIGHT
TZOFFSETFROM:-0600
TZOFFSETTO:-0500
TZNAME:CDT
DTSTART:20230312T080000
END:DAYLIGHT
BEGIN:STANDARD
TZOFFSETFROM:-0500
TZOFFSETTO:-0600
TZNAME:CST
DTSTART:20231105T070000
END:STANDARD
BEGIN:DAYLIGHT
TZOFFSETFROM:-0600
TZOFFSETTO:-0500
TZNAME:CDT
DTSTART:20240310T080000
END:DAYLIGHT
BEGIN:STANDARD
TZOFFSETFROM:-0500
TZOFFSETTO:-0600
TZNAME:CST
DTSTART:20241103T070000
END:STANDARD
BEGIN:DAYLIGHT
TZOFFSETFROM:-0600
TZOFFSETTO:-0500
TZNAME:CDT
DTSTART:20250309T080000
END:DAYLIGHT
BEGIN:STANDARD
TZOFFSETFROM:-0500
TZOFFSETTO:-0600
TZNAME:CST
DTSTART:20251102T070000
END:STANDARD
BEGIN:DAYLIGHT
TZOFFSETFROM:-0600
TZOFFSETTO:-0500
TZNAME:CDT
DTSTART:20260308T080000
END:DAYLIGHT
BEGIN:STANDARD
TZOFFSETFROM:-0500
TZOFFSETTO:-0600
TZNAME:CST
DTSTART:20261101T070000
END:STANDARD
END:VTIMEZONE
BEGIN:VEVENT
DTSTART;VALUE=DATE:20260217
DTEND;VALUE=DATE:20260218
DTSTAMP:20260425T194933
CREATED:20250205T144554Z
LAST-MODIFIED:20260109T151101Z
UID:188391-1771286400-1771372799@stg.csl.matchbox.host
SUMMARY:Marguerite Young Endowment Fund Scholarship application deadline
DESCRIPTION:
URL:https://stg.csl.matchbox.host/event/marguerite-young-endowment-fund-scholarship-application-deadline/
LOCATION:MN
CATEGORIES:Financial Aid
END:VEVENT
BEGIN:VEVENT
DTSTART;VALUE=DATE:20260217
DTEND;VALUE=DATE:20260218
DTSTAMP:20260425T194933
CREATED:20250205T144812Z
LAST-MODIFIED:20260109T151256Z
UID:188394-1771286400-1771372799@stg.csl.matchbox.host
SUMMARY:William J. Wolf Memorial Scholarship Fund application deadline
DESCRIPTION:
URL:https://stg.csl.matchbox.host/event/william-j-wolf-memorial-scholarship-fund-application-deadline/
LOCATION:MN
CATEGORIES:Financial Aid
END:VEVENT
BEGIN:VEVENT
DTSTART;VALUE=DATE:20240218
DTEND;VALUE=DATE:20240219
DTSTAMP:20260425T194933
CREATED:20230612T182939Z
LAST-MODIFIED:20230612T182939Z
UID:181954-1708214400-1708300799@stg.csl.matchbox.host
SUMMARY:Martin Luther\, Doctor and Confessor
DESCRIPTION:
URL:https://stg.csl.matchbox.host/event/martin-luther-doctor-and-confessor/
LOCATION:MN
CATEGORIES:Holiday
END:VEVENT
BEGIN:VEVENT
DTSTART;VALUE=DATE:20260221
DTEND;VALUE=DATE:20260222
DTSTAMP:20260425T194933
CREATED:20260109T145534Z
LAST-MODIFIED:20260109T145534Z
UID:191343-1771632000-1771718399@stg.csl.matchbox.host
SUMMARY:Milt & Sally Knabusch Ministerial & Parochial School Teacher Endowed Scholarship Fund application deadline
DESCRIPTION:
URL:https://stg.csl.matchbox.host/event/milt-sally-knabusch-ministerial-parochial-school-teacher-endowed-scholarship-fund-application-deadline/
LOCATION:MN
CATEGORIES:Financial Aid
END:VEVENT
BEGIN:VEVENT
DTSTART;VALUE=DATE:20240224
DTEND;VALUE=DATE:20240225
DTSTAMP:20260425T194933
CREATED:20230612T181710Z
LAST-MODIFIED:20230612T181710Z
UID:181925-1708732800-1708819199@stg.csl.matchbox.host
SUMMARY:St. Matthias\, Apostle
DESCRIPTION:
URL:https://stg.csl.matchbox.host/event/st-matthias-apostle/
LOCATION:MN
CATEGORIES:Liturgical Calendar
END:VEVENT
BEGIN:VEVENT
DTSTART;VALUE=DATE:20240301
DTEND;VALUE=DATE:20240302
DTSTAMP:20260425T194933
CREATED:20230612T182201Z
LAST-MODIFIED:20230612T182201Z
UID:181937-1709251200-1709337599@stg.csl.matchbox.host
SUMMARY:St. Philip and St. James\, Apostles
DESCRIPTION:
URL:https://stg.csl.matchbox.host/event/st-philip-and-st-james-apostles/
LOCATION:MN
CATEGORIES:Liturgical Calendar
END:VEVENT
BEGIN:VEVENT
DTSTART;VALUE=DATE:20220313
DTEND;VALUE=DATE:20220314
DTSTAMP:20260425T194933
CREATED:20211221T222522Z
LAST-MODIFIED:20211221T222522Z
UID:174210-1647129600-1647215999@stg.csl.matchbox.host
SUMMARY:Daylight Savings time begins
DESCRIPTION:
URL:https://stg.csl.matchbox.host/event/daylight-savings-time-begins/
LOCATION:MN
CATEGORIES:Season
ATTACH;FMTTYPE=image/jpeg:https://stg.csl.matchbox.host/wp-content/uploads/2022/10/DST.jpg
END:VEVENT
BEGIN:VEVENT
DTSTART;VALUE=DATE:20230315
DTEND;VALUE=DATE:20230316
DTSTAMP:20260425T194933
CREATED:20221007T160406Z
LAST-MODIFIED:20231213T164352Z
UID:176251-1678838400-1678924799@stg.csl.matchbox.host
SUMMARY:The Donald F. Hinchey Scholarship application deadline
DESCRIPTION:
URL:https://stg.csl.matchbox.host/event/the-donald-f-hinchey-scholarship-application-deadline-2/
LOCATION:MN
CATEGORIES:Financial Aid
END:VEVENT
BEGIN:VEVENT
DTSTART;VALUE=DATE:20260315
DTEND;VALUE=DATE:20260316
DTSTAMP:20260425T194933
CREATED:20260109T145129Z
LAST-MODIFIED:20260109T145205Z
UID:191341-1773532800-1773619199@stg.csl.matchbox.host
SUMMARY:Indiana District LWML Scholarship application deadline
DESCRIPTION:
URL:https://stg.csl.matchbox.host/event/indiana-district-lwml-scholarship-application-deadline/
LOCATION:MN
CATEGORIES:Financial Aid
END:VEVENT
BEGIN:VEVENT
DTSTART;VALUE=DATE:20240319
DTEND;VALUE=DATE:20240320
DTSTAMP:20260425T194933
CREATED:20230612T181842Z
LAST-MODIFIED:20230612T181842Z
UID:181928-1710806400-1710892799@stg.csl.matchbox.host
SUMMARY:St. Joseph\, Guardian of Jesus
DESCRIPTION:
URL:https://stg.csl.matchbox.host/event/st-joseph-guardian-of-jesus/
LOCATION:MN
CATEGORIES:Liturgical Calendar
END:VEVENT
BEGIN:VEVENT
DTSTART;VALUE=DATE:20240325
DTEND;VALUE=DATE:20240326
DTSTAMP:20260425T194933
CREATED:20230612T181935Z
LAST-MODIFIED:20230612T181935Z
UID:181931-1711324800-1711411199@stg.csl.matchbox.host
SUMMARY:The Annunciation of Our Lord
DESCRIPTION:
URL:https://stg.csl.matchbox.host/event/the-annunciation-of-our-lord/
LOCATION:MN
CATEGORIES:Liturgical Calendar
END:VEVENT
BEGIN:VEVENT
DTSTART;VALUE=DATE:20240331
DTEND;VALUE=DATE:20240401
DTSTAMP:20260425T194933
CREATED:20180220T210322Z
LAST-MODIFIED:20180220T210322Z
UID:174833-1711843200-1711929599@stg.csl.matchbox.host
SUMMARY:Wyoming District LWML Scholarship application deadline
DESCRIPTION:
URL:https://stg.csl.matchbox.host/event/wyoming-district-lwml-scholarship-2024-03-31/
LOCATION:MN
CATEGORIES:Financial Aid
END:VEVENT
BEGIN:VEVENT
DTSTART;VALUE=DATE:20240401
DTEND;VALUE=DATE:20240402
DTSTAMP:20260425T194933
CREATED:20240115T205607Z
LAST-MODIFIED:20240115T205704Z
UID:184371-1711929600-1712015999@stg.csl.matchbox.host
SUMMARY:The Immanuel Evangelical Lutheran Church of North Minneapolis Scholarship application deadline
DESCRIPTION:
URL:https://stg.csl.matchbox.host/event/the-immanuel-evangelical-lutheran-church-of-north-minneapolis-scholarship-application-deadline-2/
LOCATION:MN
CATEGORIES:Financial Aid
END:VEVENT
BEGIN:VEVENT
DTSTART;VALUE=DATE:20240425
DTEND;VALUE=DATE:20240426
DTSTAMP:20260425T194933
CREATED:20230612T182051Z
LAST-MODIFIED:20230612T182051Z
UID:181934-1714003200-1714089599@stg.csl.matchbox.host
SUMMARY:St. Mark\, Evangelist
DESCRIPTION:
URL:https://stg.csl.matchbox.host/event/st-mark-evangelist/
LOCATION:MN
CATEGORIES:Liturgical Calendar
END:VEVENT
BEGIN:VEVENT
DTSTART;VALUE=DATE:20260508
DTEND;VALUE=DATE:20260509
DTSTAMP:20260425T194933
CREATED:20260109T151711Z
LAST-MODIFIED:20260109T151711Z
UID:191349-1778198400-1778284799@stg.csl.matchbox.host
SUMMARY:Bethesda Lutheran Disability Ministries Scholarship application deadline
DESCRIPTION:
URL:https://stg.csl.matchbox.host/event/bethesda-lutheran-disability-ministries-scholarship-application-deadline/
LOCATION:MN
CATEGORIES:Financial Aid
END:VEVENT
BEGIN:VEVENT
DTSTART;VALUE=DATE:20240531
DTEND;VALUE=DATE:20240601
DTSTAMP:20260425T194933
CREATED:20230612T182255Z
LAST-MODIFIED:20230612T182255Z
UID:181940-1717113600-1717199999@stg.csl.matchbox.host
SUMMARY:The Visitation
DESCRIPTION:
URL:https://stg.csl.matchbox.host/event/the-visitation/
LOCATION:MN
CATEGORIES:Liturgical Calendar
END:VEVENT
BEGIN:VEVENT
DTSTART;VALUE=DATE:20240527
DTEND;VALUE=DATE:20240528
DTSTAMP:20260425T194933
CREATED:20230612T183519Z
LAST-MODIFIED:20230612T183519Z
UID:181966-1716768000-1716854399@stg.csl.matchbox.host
SUMMARY:Memorial Day (no classes)
DESCRIPTION:
URL:https://stg.csl.matchbox.host/event/memorial-day-no-classes/
LOCATION:MN
CATEGORIES:Holiday
END:VEVENT
BEGIN:VEVENT
DTSTART;VALUE=DATE:20240601
DTEND;VALUE=DATE:20240602
DTSTAMP:20260425T194933
CREATED:20230612T183611Z
LAST-MODIFIED:20230612T183611Z
UID:181969-1717200000-1717286399@stg.csl.matchbox.host
SUMMARY:W.B. Small Trust application deadline
DESCRIPTION:
URL:https://stg.csl.matchbox.host/event/w-b-small-trust-application-deadline/
LOCATION:MN
CATEGORIES:Financial Aid
END:VEVENT
BEGIN:VEVENT
DTSTART;VALUE=DATE:20260601
DTEND;VALUE=DATE:20260602
DTSTAMP:20260425T194933
CREATED:20260109T152711Z
LAST-MODIFIED:20260109T152711Z
UID:191354-1780272000-1780358399@stg.csl.matchbox.host
SUMMARY:Gary and Leesa Nesty Scholarship application available
DESCRIPTION:
URL:https://stg.csl.matchbox.host/event/gary-and-leesa-nesty-scholarship-application-available/
LOCATION:MN
CATEGORIES:Financial Aid
END:VEVENT
BEGIN:VEVENT
DTSTART;VALUE=DATE:20240611
DTEND;VALUE=DATE:20240612
DTSTAMP:20260425T194933
CREATED:20230612T182404Z
LAST-MODIFIED:20230612T182404Z
UID:181943-1718064000-1718150399@stg.csl.matchbox.host
SUMMARY:St. Barnabas\, Apostle
DESCRIPTION:
URL:https://stg.csl.matchbox.host/event/st-barnabas-apostle/
LOCATION:MN
CATEGORIES:Liturgical Calendar
END:VEVENT
BEGIN:VEVENT
DTSTART;VALUE=DATE:20230621
DTEND;VALUE=DATE:20230622
DTSTAMP:20260425T194933
CREATED:20230612T183708Z
LAST-MODIFIED:20230612T183756Z
UID:181972-1687305600-1687391999@stg.csl.matchbox.host
SUMMARY:Summer begins
DESCRIPTION:
URL:https://stg.csl.matchbox.host/event/summer-begins/
LOCATION:MN
CATEGORIES:Season
END:VEVENT
BEGIN:VEVENT
DTSTART;VALUE=DATE:20230624
DTEND;VALUE=DATE:20230625
DTSTAMP:20260425T194933
CREATED:20230612T174958Z
LAST-MODIFIED:20230612T174958Z
UID:181852-1687564800-1687651199@stg.csl.matchbox.host
SUMMARY:Nativity of St. John the Baptist
DESCRIPTION:
URL:https://stg.csl.matchbox.host/event/nativity-of-st-john-the-baptist/
LOCATION:MN
CATEGORIES:Liturgical Calendar
END:VEVENT
BEGIN:VEVENT
DTSTART;VALUE=DATE:20230629
DTEND;VALUE=DATE:20230630
DTSTAMP:20260425T194933
CREATED:20230612T175136Z
LAST-MODIFIED:20230612T175136Z
UID:181855-1687996800-1688083199@stg.csl.matchbox.host
SUMMARY:St. Peter and St. Paul\, Apostles
DESCRIPTION:
URL:https://stg.csl.matchbox.host/event/st-peter-and-st-paul-apostles/
LOCATION:MN
CATEGORIES:Liturgical Calendar
END:VEVENT
BEGIN:VEVENT
DTSTART;VALUE=DATE:20260701
DTEND;VALUE=DATE:20260702
DTSTAMP:20260425T194933
CREATED:20260109T153605Z
LAST-MODIFIED:20260109T153605Z
UID:191357-1782864000-1782950399@stg.csl.matchbox.host
SUMMARY:Siebert Lutheran Foundation application deadline
DESCRIPTION:
URL:https://stg.csl.matchbox.host/event/siebert-lutheran-foundation-application-deadline/
LOCATION:MN
CATEGORIES:Financial Aid
END:VEVENT
BEGIN:VEVENT
DTSTART;VALUE=DATE:20230722
DTEND;VALUE=DATE:20230723
DTSTAMP:20260425T194933
CREATED:20230612T175334Z
LAST-MODIFIED:20230612T175334Z
UID:181858-1689984000-1690070399@stg.csl.matchbox.host
SUMMARY:St. Mary Magdalene
DESCRIPTION:
URL:https://stg.csl.matchbox.host/event/st-mary-magdalene/
LOCATION:MN
CATEGORIES:Liturgical Calendar
END:VEVENT
BEGIN:VEVENT
DTSTART;VALUE=DATE:20230725
DTEND;VALUE=DATE:20230726
DTSTAMP:20260425T194933
CREATED:20230612T175607Z
LAST-MODIFIED:20230612T175607Z
UID:181861-1690243200-1690329599@stg.csl.matchbox.host
SUMMARY:St. James the Elder\, Apostle
DESCRIPTION:
URL:https://stg.csl.matchbox.host/event/st-james-the-elder-apostle/
LOCATION:MN
CATEGORIES:Liturgical Calendar
END:VEVENT
BEGIN:VEVENT
DTSTART;VALUE=DATE:20230815
DTEND;VALUE=DATE:20230816
DTSTAMP:20260425T194933
CREATED:20230612T175710Z
LAST-MODIFIED:20230612T175710Z
UID:181864-1692057600-1692143999@stg.csl.matchbox.host
SUMMARY:St. Mary\, Mother of Our Lord
DESCRIPTION:
URL:https://stg.csl.matchbox.host/event/st-mary-mother-of-our-lord/
LOCATION:MN
CATEGORIES:Liturgical Calendar
END:VEVENT
BEGIN:VEVENT
DTSTART;VALUE=DATE:20230824
DTEND;VALUE=DATE:20230825
DTSTAMP:20260425T194933
CREATED:20230612T175808Z
LAST-MODIFIED:20230612T175808Z
UID:181867-1692835200-1692921599@stg.csl.matchbox.host
SUMMARY:St. Bartholomew\, Apostle
DESCRIPTION:
URL:https://stg.csl.matchbox.host/event/st-bartholomew-apostle/
LOCATION:MN
CATEGORIES:Liturgical Calendar
END:VEVENT
BEGIN:VEVENT
DTSTART;VALUE=DATE:20230829
DTEND;VALUE=DATE:20230830
DTSTAMP:20260425T194933
CREATED:20230612T175852Z
LAST-MODIFIED:20230612T175852Z
UID:181870-1693267200-1693353599@stg.csl.matchbox.host
SUMMARY:The Martyrdom of St. John the Baptist
DESCRIPTION:
URL:https://stg.csl.matchbox.host/event/the-martyrdom-of-st-john-the-baptist/
LOCATION:MN
CATEGORIES:Liturgical Calendar
END:VEVENT
BEGIN:VEVENT
DTSTART;VALUE=DATE:20230911
DTEND;VALUE=DATE:20230912
DTSTAMP:20260425T194933
CREATED:20230612T183902Z
LAST-MODIFIED:20230612T183902Z
UID:181975-1694390400-1694476799@stg.csl.matchbox.host
SUMMARY:Patriot Day
DESCRIPTION:
URL:https://stg.csl.matchbox.host/event/patriot-day/
LOCATION:MN
CATEGORIES:Holiday
END:VEVENT
END:VCALENDAR