BEGIN:VCALENDAR
VERSION:2.0
PRODID:-//Concordia Seminary - ECPv6.13.1//NONSGML v1.0//EN
CALSCALE:GREGORIAN
METHOD:PUBLISH
X-ORIGINAL-URL:https://stg.csl.matchbox.host
X-WR-CALDESC:Events for Concordia Seminary
REFRESH-INTERVAL;VALUE=DURATION:PT1H
X-Robots-Tag:noindex
X-PUBLISHED-TTL:PT1H
BEGIN:VTIMEZONE
TZID:America/Chicago
BEGIN:DAYLIGHT
TZOFFSETFROM:-0600
TZOFFSETTO:-0500
TZNAME:CDT
DTSTART:20180311T080000
END:DAYLIGHT
BEGIN:STANDARD
TZOFFSETFROM:-0500
TZOFFSETTO:-0600
TZNAME:CST
DTSTART:20181104T070000
END:STANDARD
BEGIN:DAYLIGHT
TZOFFSETFROM:-0600
TZOFFSETTO:-0500
TZNAME:CDT
DTSTART:20190310T080000
END:DAYLIGHT
BEGIN:STANDARD
TZOFFSETFROM:-0500
TZOFFSETTO:-0600
TZNAME:CST
DTSTART:20191103T070000
END:STANDARD
BEGIN:DAYLIGHT
TZOFFSETFROM:-0600
TZOFFSETTO:-0500
TZNAME:CDT
DTSTART:20200308T080000
END:DAYLIGHT
BEGIN:STANDARD
TZOFFSETFROM:-0500
TZOFFSETTO:-0600
TZNAME:CST
DTSTART:20201101T070000
END:STANDARD
BEGIN:DAYLIGHT
TZOFFSETFROM:-0600
TZOFFSETTO:-0500
TZNAME:CDT
DTSTART:20210314T080000
END:DAYLIGHT
BEGIN:STANDARD
TZOFFSETFROM:-0500
TZOFFSETTO:-0600
TZNAME:CST
DTSTART:20211107T070000
END:STANDARD
BEGIN:DAYLIGHT
TZOFFSETFROM:-0600
TZOFFSETTO:-0500
TZNAME:CDT
DTSTART:20220313T080000
END:DAYLIGHT
BEGIN:STANDARD
TZOFFSETFROM:-0500
TZOFFSETTO:-0600
TZNAME:CST
DTSTART:20221106T070000
END:STANDARD
END:VTIMEZONE
BEGIN:VEVENT
DTSTART;VALUE=DATE:20220109
DTEND;VALUE=DATE:20220110
DTSTAMP:20260425T075517
CREATED:20211222T005325Z
LAST-MODIFIED:20221005T003143Z
UID:174222-1641686400-1641772799@stg.csl.matchbox.host
SUMMARY:The Baptism of Our Lord
DESCRIPTION:The Baptism of Our Lord \n\n\n\nFIRST READING\nIs. 43:1-7\n\n\nPSALM\nPsalm 29\n\n\nEPISTLE\nRom. 6:1-11\n\n\nGOSPEL\nLuke 3:15-22\n\n\n\nColor
URL:https://stg.csl.matchbox.host/event/the-baptism-of-our-lord-2/
LOCATION:TN
CATEGORIES:Liturgical Calendar
END:VEVENT
BEGIN:VEVENT
DTSTART;VALUE=DATE:20220108
DTEND;VALUE=DATE:20220110
DTSTAMP:20260425T075517
CREATED:20220104T204502Z
LAST-MODIFIED:20220104T204502Z
UID:174336-1641600000-1641772799@stg.csl.matchbox.host
SUMMARY:Library closed
DESCRIPTION:
URL:https://stg.csl.matchbox.host/event/library-closed-42/
LOCATION:TN
CATEGORIES:Library
END:VEVENT
BEGIN:VEVENT
DTSTART;TZID=America/Chicago:20220103T080000
DTEND;TZID=America/Chicago:20220103T170000
DTSTAMP:20260425T075518
CREATED:20211214T210527Z
LAST-MODIFIED:20211214T210527Z
UID:174197-1641196800-1641229200@stg.csl.matchbox.host
SUMMARY:Library hours
DESCRIPTION:
URL:https://stg.csl.matchbox.host/event/library-hours-52-2/
LOCATION:TN
CATEGORIES:Library
ATTACH;FMTTYPE=image/jpeg:https://stg.csl.matchbox.host/wp-content/uploads/2022/09/library.jpg
END:VEVENT
BEGIN:VEVENT
DTSTART;TZID=America/Chicago:20220103T080000
DTEND;TZID=America/Chicago:20220103T170000
DTSTAMP:20260425T075518
CREATED:20211214T210527Z
LAST-MODIFIED:20211214T210527Z
UID:174197-1641196800-1641229200@stg.csl.matchbox.host
SUMMARY:Library hours
DESCRIPTION:
URL:https://stg.csl.matchbox.host/event/library-hours-52-2/
LOCATION:TN
CATEGORIES:Library
ATTACH;FMTTYPE=image/jpeg:https://stg.csl.matchbox.host/wp-content/uploads/2022/09/library.jpg
END:VEVENT
BEGIN:VEVENT
DTSTART;VALUE=DATE:20220106
DTEND;VALUE=DATE:20220107
DTSTAMP:20260425T075518
CREATED:20211222T000118Z
LAST-MODIFIED:20221005T003142Z
UID:174220-1641427200-1641513599@stg.csl.matchbox.host
SUMMARY:The Epiphany of Our Lord
DESCRIPTION:The Epiphany of Our Lord \n\n\n\nFIRST READING\nIs. 60:1–6\n\n\nPSALM\nPsalm 72:1–11 (12–15)\n\n\nEPISTLE\nEph. 3:1–12\n\n\nGOSPEL\nMatt. 2:1–12\n\n\n\nColor
URL:https://stg.csl.matchbox.host/event/the-epiphany-of-our-lord-2022/
LOCATION:TN
CATEGORIES:Liturgical Calendar
END:VEVENT
BEGIN:VEVENT
DTSTART;TZID=America/Chicago:20220103T080000
DTEND;TZID=America/Chicago:20220103T170000
DTSTAMP:20260425T075518
CREATED:20211214T210527Z
LAST-MODIFIED:20211214T210527Z
UID:174197-1641196800-1641229200@stg.csl.matchbox.host
SUMMARY:Library hours
DESCRIPTION:
URL:https://stg.csl.matchbox.host/event/library-hours-52-2/
LOCATION:TN
CATEGORIES:Library
ATTACH;FMTTYPE=image/jpeg:https://stg.csl.matchbox.host/wp-content/uploads/2022/09/library.jpg
END:VEVENT
BEGIN:VEVENT
DTSTART;TZID=America/Chicago:20220103T080000
DTEND;TZID=America/Chicago:20220103T170000
DTSTAMP:20260425T075518
CREATED:20211214T210527Z
LAST-MODIFIED:20211214T210527Z
UID:174197-1641196800-1641229200@stg.csl.matchbox.host
SUMMARY:Library hours
DESCRIPTION:
URL:https://stg.csl.matchbox.host/event/library-hours-52-2/
LOCATION:TN
CATEGORIES:Library
ATTACH;FMTTYPE=image/jpeg:https://stg.csl.matchbox.host/wp-content/uploads/2022/09/library.jpg
END:VEVENT
BEGIN:VEVENT
DTSTART;TZID=America/Chicago:20220103T080000
DTEND;TZID=America/Chicago:20220103T170000
DTSTAMP:20260425T075518
CREATED:20211214T210527Z
LAST-MODIFIED:20211214T210527Z
UID:174197-1641196800-1641229200@stg.csl.matchbox.host
SUMMARY:Library hours
DESCRIPTION:
URL:https://stg.csl.matchbox.host/event/library-hours-52-2/
LOCATION:TN
CATEGORIES:Library
ATTACH;FMTTYPE=image/jpeg:https://stg.csl.matchbox.host/wp-content/uploads/2022/09/library.jpg
END:VEVENT
BEGIN:VEVENT
DTSTART;VALUE=DATE:20220103
DTEND;VALUE=DATE:20220104
DTSTAMP:20260425T075518
CREATED:20200828T021341Z
LAST-MODIFIED:20200828T021341Z
UID:174007-1641168000-1641254399@stg.csl.matchbox.host
SUMMARY:Winterim Term classes begin
DESCRIPTION:Mandatory for students enrolled in Greek during Fall Semester\, second-year M.Div. students & RAR students\n 
URL:https://stg.csl.matchbox.host/event/winterim-term-classes-begin-5/
LOCATION:TN
CATEGORIES:Academics
END:VEVENT
BEGIN:VEVENT
DTSTART;VALUE=DATE:20220103
DTEND;VALUE=DATE:20220104
DTSTAMP:20260425T075518
CREATED:20200828T021255Z
LAST-MODIFIED:20200828T021255Z
UID:174006-1641168000-1641254399@stg.csl.matchbox.host
SUMMARY:Fall Semester grade deadline
DESCRIPTION:
URL:https://stg.csl.matchbox.host/event/fall-semester-grade-deadline-2/
LOCATION:TN
CATEGORIES:Academics
END:VEVENT
BEGIN:VEVENT
DTSTART;VALUE=DATE:20220102
DTEND;VALUE=DATE:20220103
DTSTAMP:20260425T075518
CREATED:20211221T235314Z
LAST-MODIFIED:20221005T003142Z
UID:174218-1641081600-1641167999@stg.csl.matchbox.host
SUMMARY:Second Sunday after Christmas
DESCRIPTION:Second Sunday after Christmas \n\n\n\nFIRST READING\n1 Kings 3:4-15\n\n\nPSALM\nPsalm 119:97-104\n\n\nEPISTLE\nEph. 1:3–14\n\n\nGOSPEL\nLuke 2:40–52\n\n\n\nColor
URL:https://stg.csl.matchbox.host/event/second-sunday-after-christmas-3/
LOCATION:TN
CATEGORIES:Liturgical Calendar
END:VEVENT
BEGIN:VEVENT
DTSTART;VALUE=DATE:20180614
DTEND;VALUE=DATE:20180615
DTSTAMP:20260425T075518
CREATED:20221007T165326Z
LAST-MODIFIED:20221007T165326Z
UID:176429-1528934400-1529020799@stg.csl.matchbox.host
SUMMARY:Flag Day
DESCRIPTION:
URL:https://stg.csl.matchbox.host/event/flag-day/
LOCATION:TN
CATEGORIES:Holiday
ATTACH;FMTTYPE=image/jpeg:https://stg.csl.matchbox.host/wp-content/uploads/2022/10/national-holiday.jpg
END:VEVENT
BEGIN:VEVENT
DTSTART;VALUE=DATE:20180317
DTEND;VALUE=DATE:20180318
DTSTAMP:20260425T075518
CREATED:20221007T163039Z
LAST-MODIFIED:20221007T163039Z
UID:176351-1521244800-1521331199@stg.csl.matchbox.host
SUMMARY:St. Patrick's Day
DESCRIPTION:
URL:https://stg.csl.matchbox.host/event/st-patricks-day/
LOCATION:TN
CATEGORIES:Holiday
ATTACH;FMTTYPE=image/jpeg:https://stg.csl.matchbox.host/wp-content/uploads/2022/10/clover.jpeg
END:VEVENT
BEGIN:VEVENT
DTSTART;VALUE=DATE:20180614
DTEND;VALUE=DATE:20180615
DTSTAMP:20260425T075518
CREATED:20221007T165326Z
LAST-MODIFIED:20221007T165326Z
UID:176429-1528934400-1529020799@stg.csl.matchbox.host
SUMMARY:Flag Day
DESCRIPTION:
URL:https://stg.csl.matchbox.host/event/flag-day/
LOCATION:TN
CATEGORIES:Holiday
ATTACH;FMTTYPE=image/jpeg:https://stg.csl.matchbox.host/wp-content/uploads/2022/10/national-holiday.jpg
END:VEVENT
BEGIN:VEVENT
DTSTART;VALUE=DATE:20180317
DTEND;VALUE=DATE:20180318
DTSTAMP:20260425T075518
CREATED:20221007T163039Z
LAST-MODIFIED:20221007T163039Z
UID:176351-1521244800-1521331199@stg.csl.matchbox.host
SUMMARY:St. Patrick's Day
DESCRIPTION:
URL:https://stg.csl.matchbox.host/event/st-patricks-day/
LOCATION:TN
CATEGORIES:Holiday
ATTACH;FMTTYPE=image/jpeg:https://stg.csl.matchbox.host/wp-content/uploads/2022/10/clover.jpeg
END:VEVENT
BEGIN:VEVENT
DTSTART;VALUE=DATE:20180614
DTEND;VALUE=DATE:20180615
DTSTAMP:20260425T075518
CREATED:20221007T165326Z
LAST-MODIFIED:20221007T165326Z
UID:176429-1528934400-1529020799@stg.csl.matchbox.host
SUMMARY:Flag Day
DESCRIPTION:
URL:https://stg.csl.matchbox.host/event/flag-day/
LOCATION:TN
CATEGORIES:Holiday
ATTACH;FMTTYPE=image/jpeg:https://stg.csl.matchbox.host/wp-content/uploads/2022/10/national-holiday.jpg
END:VEVENT
BEGIN:VEVENT
DTSTART;VALUE=DATE:20180317
DTEND;VALUE=DATE:20180318
DTSTAMP:20260425T075518
CREATED:20221007T163039Z
LAST-MODIFIED:20221007T163039Z
UID:176351-1521244800-1521331199@stg.csl.matchbox.host
SUMMARY:St. Patrick's Day
DESCRIPTION:
URL:https://stg.csl.matchbox.host/event/st-patricks-day/
LOCATION:TN
CATEGORIES:Holiday
ATTACH;FMTTYPE=image/jpeg:https://stg.csl.matchbox.host/wp-content/uploads/2022/10/clover.jpeg
END:VEVENT
BEGIN:VEVENT
DTSTART;VALUE=DATE:20180614
DTEND;VALUE=DATE:20180615
DTSTAMP:20260425T075518
CREATED:20221007T165326Z
LAST-MODIFIED:20221007T165326Z
UID:176429-1528934400-1529020799@stg.csl.matchbox.host
SUMMARY:Flag Day
DESCRIPTION:
URL:https://stg.csl.matchbox.host/event/flag-day/
LOCATION:TN
CATEGORIES:Holiday
ATTACH;FMTTYPE=image/jpeg:https://stg.csl.matchbox.host/wp-content/uploads/2022/10/national-holiday.jpg
END:VEVENT
BEGIN:VEVENT
DTSTART;VALUE=DATE:20180317
DTEND;VALUE=DATE:20180318
DTSTAMP:20260425T075518
CREATED:20221007T163039Z
LAST-MODIFIED:20221007T163039Z
UID:176351-1521244800-1521331199@stg.csl.matchbox.host
SUMMARY:St. Patrick's Day
DESCRIPTION:
URL:https://stg.csl.matchbox.host/event/st-patricks-day/
LOCATION:TN
CATEGORIES:Holiday
ATTACH;FMTTYPE=image/jpeg:https://stg.csl.matchbox.host/wp-content/uploads/2022/10/clover.jpeg
END:VEVENT
END:VCALENDAR