BEGIN:VCALENDAR
VERSION:2.0
PRODID:-//Concordia Seminary - ECPv6.13.1//NONSGML v1.0//EN
CALSCALE:GREGORIAN
METHOD:PUBLISH
X-ORIGINAL-URL:https://stg.csl.matchbox.host
X-WR-CALDESC:Events for Concordia Seminary
REFRESH-INTERVAL;VALUE=DURATION:PT1H
X-Robots-Tag:noindex
X-PUBLISHED-TTL:PT1H
BEGIN:VTIMEZONE
TZID:America/Chicago
BEGIN:DAYLIGHT
TZOFFSETFROM:-0600
TZOFFSETTO:-0500
TZNAME:CDT
DTSTART:20230312T080000
END:DAYLIGHT
BEGIN:STANDARD
TZOFFSETFROM:-0500
TZOFFSETTO:-0600
TZNAME:CST
DTSTART:20231105T070000
END:STANDARD
BEGIN:DAYLIGHT
TZOFFSETFROM:-0600
TZOFFSETTO:-0500
TZNAME:CDT
DTSTART:20240310T080000
END:DAYLIGHT
BEGIN:STANDARD
TZOFFSETFROM:-0500
TZOFFSETTO:-0600
TZNAME:CST
DTSTART:20241103T070000
END:STANDARD
END:VTIMEZONE
BEGIN:VEVENT
DTSTART;VALUE=DATE:20241103
DTEND;VALUE=DATE:20241104
DTSTAMP:20260425T131305
CREATED:20230705T172742Z
LAST-MODIFIED:20240325T175713Z
UID:182508-1730592000-1730678399@stg.csl.matchbox.host
SUMMARY:All Saints' Day (observed)
DESCRIPTION:All Saints’ Day (observed)\n\n\n\nFIRST READING\nRev. 7:(2–8) 9–17\n\n\nPSALM\nPs. 149\n\n\nEPISTLE\n1 John 3:1–3\n\n\nGOSPEL\nMatt. 5:1–12\n\n\n\n  \nColor\n\n 
URL:https://stg.csl.matchbox.host/event/all-saints-day-observed-2/
LOCATION:MO
CATEGORIES:Liturgical Calendar
END:VEVENT
BEGIN:VEVENT
DTSTART;TZID=America/Chicago:20241105T095500
DTEND;TZID=America/Chicago:20241105T101500
DTSTAMP:20260425T131305
CREATED:20240905T163350Z
LAST-MODIFIED:20241031T130807Z
UID:187009-1730800500-1730801700@stg.csl.matchbox.host
SUMMARY:After Chapel Concert
DESCRIPTION:Tom Mueller\, Organ\nAfter Chapel Concerts feature musicians from on and off campus sharing their musical talents on a variety of instruments. Recitals are held beginning at 9:55 a.m. directly following morning chapel\, which begins at 9:35 a.m.\, and are typically held in the chapel balcony.
URL:https://stg.csl.matchbox.host/event/after-chapel-concert-2024-11-05/
LOCATION:Chapel of St. Timothy & St. Titus\, 801 Seminary Place\, St. Louis\, MO\, 63105\, United States
CATEGORIES:Chapel,Concordia Seminary Music Series
ATTACH;FMTTYPE=image/jpeg:https://stg.csl.matchbox.host/wp-content/uploads/2024/09/after-chapel-event-2425.jpg
ORGANIZER;CN="Dr. Jon Vieker":MAILTO:viekerj@csl.edu
END:VEVENT
BEGIN:VEVENT
DTSTART;TZID=America/Chicago:20241106T093000
DTEND;TZID=America/Chicago:20241106T113000
DTSTAMP:20260425T131305
CREATED:20240430T124524Z
LAST-MODIFIED:20240430T124524Z
UID:185542-1730885400-1730892600@stg.csl.matchbox.host
SUMMARY:Seminary Guild Board Meeting
DESCRIPTION:
URL:https://stg.csl.matchbox.host/event/seminary-guild-board-meeting-6/
LOCATION:Hasse Library – Library 112\, 801 Seminary Place\, St. Louis\, MO\, 63105\, United States
CATEGORIES:Seminary Guild
ORGANIZER;CN="Braddy%2C Kimberly":MAILTO:braddyk@csl.edu
END:VEVENT
BEGIN:VEVENT
DTSTART;VALUE=DATE:20231110
DTEND;VALUE=DATE:20231111
DTSTAMP:20260425T131305
CREATED:20191105T013026Z
LAST-MODIFIED:20230301T151802Z
UID:174599-1699574400-1699660799@stg.csl.matchbox.host
SUMMARY:Martin Luther's Birthday\, 1483
DESCRIPTION:
URL:https://stg.csl.matchbox.host/event/martin-luthers-birthday-1483-2023-11-10/
LOCATION:MO
CATEGORIES:Holiday
END:VEVENT
BEGIN:VEVENT
DTSTART;VALUE=DATE:20241110
DTEND;VALUE=DATE:20241111
DTSTAMP:20260425T131305
CREATED:20230705T172827Z
LAST-MODIFIED:20230705T172827Z
UID:182510-1731196800-1731283199@stg.csl.matchbox.host
SUMMARY:Twenty-fifth Sunday after Pentecost (Proper 27)
DESCRIPTION:Twenty-fifth Sunday after Pentecost (Proper 27)\n\n\n\nFIRST READING\n1 Kings 17:8–16\n\n\nPSALM\nPs. 146\n\n\nEPISTLE\nHeb. 9:24–28\n\n\nGOSPEL\nMark 12:38–44\n\n\n\n  \nColor\n\n 
URL:https://stg.csl.matchbox.host/event/twenty-fifth-sunday-after-pentecost-proper-27/
LOCATION:MO
CATEGORIES:Liturgical Calendar
END:VEVENT
BEGIN:VEVENT
DTSTART;VALUE=DATE:20231111
DTEND;VALUE=DATE:20231112
DTSTAMP:20260425T131305
CREATED:20191105T013115Z
LAST-MODIFIED:20230301T152919Z
UID:174600-1699660800-1699747199@stg.csl.matchbox.host
SUMMARY:Remembrance Day (Canada)
DESCRIPTION:
URL:https://stg.csl.matchbox.host/event/remembrance-day-canada-2023-11-11/
LOCATION:MO
CATEGORIES:Holiday
END:VEVENT
BEGIN:VEVENT
DTSTART;TZID=America/Chicago:20241111T193000
DTEND;TZID=America/Chicago:20241111T210000
DTSTAMP:20260425T131305
CREATED:20241022T173815Z
LAST-MODIFIED:20241028T130607Z
UID:187459-1731353400-1731358800@stg.csl.matchbox.host
SUMMARY:Preachers Basketball Game
DESCRIPTION:Concordia Seminary vs. Kenrick Glennon
URL:https://stg.csl.matchbox.host/event/preachers-basketball-game-11-11-2024/
LOCATION:Eldon E. Pederson Fieldhouse Basketball court\, 801 Seminary Place\, St. Louis\, MO\, 63105\, United States
CATEGORIES:Basketball
ATTACH;FMTTYPE=image/jpeg:https://stg.csl.matchbox.host/wp-content/uploads/2024/10/basketball.jpg
END:VEVENT
BEGIN:VEVENT
DTSTART;TZID=America/Chicago:20241114T190000
DTEND;TZID=America/Chicago:20241114T203000
DTSTAMP:20260425T131305
CREATED:20241022T174043Z
LAST-MODIFIED:20241112T144619Z
UID:187461-1731610800-1731616200@stg.csl.matchbox.host
SUMMARY:Preachers Basketball Game
DESCRIPTION:Concordia Seminary vs. Greenville
URL:https://stg.csl.matchbox.host/event/preachers-basketball-game-11-14-2024/
LOCATION:Eldon E. Pederson Fieldhouse Basketball court\, 801 Seminary Place\, St. Louis\, MO\, 63105\, United States
CATEGORIES:Basketball
ATTACH;FMTTYPE=image/jpeg:https://stg.csl.matchbox.host/wp-content/uploads/2024/10/basketball.jpg
END:VEVENT
BEGIN:VEVENT
DTSTART;VALUE=DATE:20241117
DTEND;VALUE=DATE:20241118
DTSTAMP:20260425T131305
CREATED:20230705T172905Z
LAST-MODIFIED:20230705T172905Z
UID:182512-1731801600-1731887999@stg.csl.matchbox.host
SUMMARY:Twenty-sixth Sunday after Pentecost (Proper 28)
DESCRIPTION:Twenty-sixth Sunday after Pentecost (Proper 28)\n\n\n\nFIRST READING\nDan. 12:1–3\n\n\nPSALM\nPs. 16\n\n\nEPISTLE\nHeb. 10:11–25\n\n\nGOSPEL\nMark 13:1–13\n\n\n\n  \nColor\n\n 
URL:https://stg.csl.matchbox.host/event/twenty-sixth-sunday-after-pentecost-proper-28/
LOCATION:MO
CATEGORIES:Liturgical Calendar
END:VEVENT
BEGIN:VEVENT
DTSTART;VALUE=DATE:20241118
DTEND;VALUE=DATE:20241119
DTSTAMP:20260425T131305
CREATED:20240611T202821Z
LAST-MODIFIED:20240611T202821Z
UID:186006-1731888000-1731974399@stg.csl.matchbox.host
SUMMARY:Fall Semester SMP Term ends
DESCRIPTION:
URL:https://stg.csl.matchbox.host/event/fall-semester-smp-term-ends-2024/
LOCATION:MO
CATEGORIES:Specific Ministry Pastor
END:VEVENT
BEGIN:VEVENT
DTSTART;VALUE=DATE:20241119
DTEND;VALUE=DATE:20241120
DTSTAMP:20260425T131305
CREATED:20240611T202908Z
LAST-MODIFIED:20240611T202908Z
UID:186008-1731974400-1732060799@stg.csl.matchbox.host
SUMMARY:Fall Semester ODS Term ends
DESCRIPTION:
URL:https://stg.csl.matchbox.host/event/fall-semester-ods-term-ends-2024/
LOCATION:MO
CATEGORIES:Deaconess Studies Online
END:VEVENT
BEGIN:VEVENT
DTSTART;VALUE=DATE:20241124
DTEND;VALUE=DATE:20241125
DTSTAMP:20260425T131305
CREATED:20230705T173101Z
LAST-MODIFIED:20230705T173227Z
UID:182517-1732406400-1732492799@stg.csl.matchbox.host
SUMMARY:Last Sunday of the Church Year (Proper 29)
DESCRIPTION:Last Sunday of the Church Year (Proper 29)\n\n\n\nFIRST READING\nIs. 51:4–6\n\n\nPSALM\nPs. 93\n\n\nEPISTLE\nJude 20-25\n\n\nGOSPEL\nMark 13:24–37\n\n\n\n  \nColor\n\n 
URL:https://stg.csl.matchbox.host/event/last-sunday-of-the-church-year/
LOCATION:MO
CATEGORIES:Liturgical Calendar
END:VEVENT
BEGIN:VEVENT
DTSTART;VALUE=DATE:20241126
DTEND;VALUE=DATE:20241127
DTSTAMP:20260425T131305
CREATED:20240611T203149Z
LAST-MODIFIED:20240611T203149Z
UID:186010-1732579200-1732665599@stg.csl.matchbox.host
SUMMARY:Thanksgiving recess begins after classes
DESCRIPTION:
URL:https://stg.csl.matchbox.host/event/thanksgiving-recess-begins-after-classes-2024/
LOCATION:MO
CATEGORIES:Academics
END:VEVENT
BEGIN:VEVENT
DTSTART;VALUE=DATE:20241127
DTEND;VALUE=DATE:20241202
DTSTAMP:20260425T131305
CREATED:20241122T175100Z
LAST-MODIFIED:20241122T175100Z
UID:187825-1732665600-1733097599@stg.csl.matchbox.host
SUMMARY:Pederson Field House closed
DESCRIPTION:The Pederson Field House will re-open for normal hours at 6 a.m. on Monday\, Dec. 2nd\, 2024.
URL:https://stg.csl.matchbox.host/event/pederson-field-house-closed-2024-11/
LOCATION:Pederson Fieldhouse\, 801 Seminary Place\, St. Louis\, MO\, 63105\, United States
CATEGORIES:Athletics
ATTACH;FMTTYPE=image/jpeg:https://stg.csl.matchbox.host/wp-content/uploads/2024/05/pederson.jpg
END:VEVENT
BEGIN:VEVENT
DTSTART;VALUE=DATE:20241128
DTEND;VALUE=DATE:20241129
DTSTAMP:20260425T131305
CREATED:20230705T172951Z
LAST-MODIFIED:20241014T162345Z
UID:182514-1732752000-1732838399@stg.csl.matchbox.host
SUMMARY:Thanksgiving Day
DESCRIPTION:Thanksgiving Day\n\n\n\nFIRST READING\nDeut. 8:1–10\n\n\nPSALM\nPs. 67\n\n\nEPISTLE\nPhil. 4:6–20 or\n1 Tim. 2:1–4\n\n\nGOSPEL\nLuke 17:11–19\n\n\n\n  \nColor\n\n 
URL:https://stg.csl.matchbox.host/event/thanksgiving-day-2/
LOCATION:MO
CATEGORIES:Liturgical Calendar
ATTACH;FMTTYPE=image/jpeg:https://stg.csl.matchbox.host/wp-content/uploads/2023/06/thanksgiving.jpg
END:VEVENT
BEGIN:VEVENT
DTSTART;VALUE=DATE:20231130
DTEND;VALUE=DATE:20231201
DTSTAMP:20260425T131305
CREATED:20230612T180710Z
LAST-MODIFIED:20231103T213849Z
UID:181895-1701302400-1701388799@stg.csl.matchbox.host
SUMMARY:St. Andrew\, Apostle
DESCRIPTION:
URL:https://stg.csl.matchbox.host/event/st-andrew-apostle/
LOCATION:MO
CATEGORIES:Liturgical Calendar
END:VEVENT
BEGIN:VEVENT
DTSTART;VALUE=DATE:20241130
DTEND;VALUE=DATE:20241201
DTSTAMP:20260425T131305
CREATED:20240611T203620Z
LAST-MODIFIED:20240611T203620Z
UID:186014-1732924800-1733011199@stg.csl.matchbox.host
SUMMARY:International student application deadline (Graduate School)
DESCRIPTION:
URL:https://stg.csl.matchbox.host/event/international-student-application-deadline-graduate-school-2024/
LOCATION:MO
CATEGORIES:Doctor of Philosophy,Master of Arts,Master of Sacred Theology
END:VEVENT
END:VCALENDAR