BEGIN:VCALENDAR
VERSION:2.0
PRODID:-//Concordia Seminary - ECPv6.13.1//NONSGML v1.0//EN
CALSCALE:GREGORIAN
METHOD:PUBLISH
X-ORIGINAL-URL:https://stg.csl.matchbox.host
X-WR-CALDESC:Events for Concordia Seminary
REFRESH-INTERVAL;VALUE=DURATION:PT1H
X-Robots-Tag:noindex
X-PUBLISHED-TTL:PT1H
BEGIN:VTIMEZONE
TZID:America/Chicago
BEGIN:DAYLIGHT
TZOFFSETFROM:-0600
TZOFFSETTO:-0500
TZNAME:CDT
DTSTART:20230312T080000
END:DAYLIGHT
BEGIN:STANDARD
TZOFFSETFROM:-0500
TZOFFSETTO:-0600
TZNAME:CST
DTSTART:20231105T070000
END:STANDARD
BEGIN:DAYLIGHT
TZOFFSETFROM:-0600
TZOFFSETTO:-0500
TZNAME:CDT
DTSTART:20240310T080000
END:DAYLIGHT
BEGIN:STANDARD
TZOFFSETFROM:-0500
TZOFFSETTO:-0600
TZNAME:CST
DTSTART:20241103T070000
END:STANDARD
BEGIN:DAYLIGHT
TZOFFSETFROM:-0600
TZOFFSETTO:-0500
TZNAME:CDT
DTSTART:20250309T080000
END:DAYLIGHT
BEGIN:STANDARD
TZOFFSETFROM:-0500
TZOFFSETTO:-0600
TZNAME:CST
DTSTART:20251102T070000
END:STANDARD
BEGIN:DAYLIGHT
TZOFFSETFROM:-0600
TZOFFSETTO:-0500
TZNAME:CDT
DTSTART:20260308T080000
END:DAYLIGHT
BEGIN:STANDARD
TZOFFSETFROM:-0500
TZOFFSETTO:-0600
TZNAME:CST
DTSTART:20261101T070000
END:STANDARD
END:VTIMEZONE
BEGIN:VEVENT
DTSTART;VALUE=DATE:20261101
DTEND;VALUE=DATE:20261102
DTSTAMP:20260425T093129
CREATED:20250612T181532Z
LAST-MODIFIED:20250612T181532Z
UID:189828-1793491200-1793577599@stg.csl.matchbox.host
SUMMARY:All Saints Day (observed)
DESCRIPTION:All Saints Day (observed)\n\n\n\nFIRST READING\nRev. 7:(2–8) 9–17\n\n\nPSALM\nPs. 149\n\n\nEPISTLE\n1 John 3:1–3\n\n\nGOSPEL\nMatt. 5:1–12\n\n\n\n  \nColor\n\n 
URL:https://stg.csl.matchbox.host/event/all-saints-day-observed-2026/
LOCATION:MO
CATEGORIES:Liturgical Calendar
END:VEVENT
BEGIN:VEVENT
DTSTART;VALUE=DATE:20261101
DTEND;VALUE=DATE:20261102
DTSTAMP:20260425T093129
CREATED:20260109T150718Z
LAST-MODIFIED:20260109T150833Z
UID:191347-1793491200-1793577599@stg.csl.matchbox.host
SUMMARY:Beta Sigma Psi Alumni Seminarian Scholarship application available
DESCRIPTION:
URL:https://stg.csl.matchbox.host/event/beta-sigma-psi-alumni-seminarian-scholarship-application-available/
LOCATION:MO
CATEGORIES:Financial Aid
END:VEVENT
BEGIN:VEVENT
DTSTART;VALUE=DATE:20261108
DTEND;VALUE=DATE:20261109
DTSTAMP:20260425T093129
CREATED:20250612T181620Z
LAST-MODIFIED:20250612T181620Z
UID:189830-1794096000-1794182399@stg.csl.matchbox.host
SUMMARY:Twenty-fourth Sunday after Pentecost (Proper 27)
DESCRIPTION:Twenty-fourth Sunday after Pentecost (Proper 27)\n\n\n\nFIRST READING\nAmos 5:18–24\n\n\nPSALM\nPs. 70\n\n\nEPISTLE\n1 Thess. 4:13–18\n\n\nGOSPEL\nMatt. 25:1–13\n\n\n\n  \nColor\n\n 
URL:https://stg.csl.matchbox.host/event/twenty-fourth-sunday-after-pentecost-proper-27-2026/
LOCATION:MO
CATEGORIES:Liturgical Calendar
END:VEVENT
BEGIN:VEVENT
DTSTART;VALUE=DATE:20261109
DTEND;VALUE=DATE:20261112
DTSTAMP:20260425T093129
CREATED:20260327T161825Z
LAST-MODIFIED:20260327T161825Z
UID:191980-1794182400-1794441599@stg.csl.matchbox.host
SUMMARY:Prof Insights: Faculty-Led Workshop: Professor Prieto in Ft. Lauderdale\, FL
DESCRIPTION:Reaching Out to Our Neighbors with the Gospel of Hope: Engaging and Learning from Our Global South Partners\nChrist commissioned His apostles to be His witnesses “to the ends of the earth\,” calling them to make disciples of all nations by baptizing and teaching (Acts 1:8; Matt. 28:19–20). For centuries\, going abroad has been a central mission endeavor of the Christian church — and The Lutheran Church—Missouri Synod (LCMS) continues to faithfully participate in that global mission. However\, shifting immigration patterns have opened new doors for outreach. The U.S. itself has become a mission field\, as many immigrants arrive not only to receive the Gospel\, but also to proclaim it. These brothers and sisters from the Global South bring with them vibrant faith and a passion for sharing Christ. How\, then\, can our LCMS congregations engage in meaningful outreach alongside these mission-minded partners — reaching into the diverse neighborhoods of our own nation with the love and truth of Jesus? \n\n\n\n\nDr. Ely Prieto\nAssociate Professor of Practical Theology\, Associate Dean of Urban and Cross-Cultural Ministry\, Director of the Center for Hispanic Studies\, and Lutheran Foundation Professor of Urban and Cross-Cultural Ministry\nDr. Ely Prieto is associate professor of Practical Theology\, the Lutheran Foundation Professor of Urban and Cross-Cultural Ministry\, associate dean for Urban and Cross-Cultural Ministry\, and director of the Center for Hispanic Studies at Concordia\, Seminary\, St. Louis. A faculty member since 2021\, Dr. Prieto has an extensive academic background teaching in the areas of homilitics\, pastoral theology\, church planning and administration. He was one of the editors of “O Povo de Deus (A Festschrift in Honor of Rev. Dr. Acir Raymann)” and has contributed chapters for a variety of published books\, articles\, book reviews\, homiletical and sermonic studies and sermons. \n\n\n	\n\n\n\n\nSchedule\n\n\nDAY\nTIME\n\n\nTuesday\, Nov. 9\n1-4 p.m.\n\n\nWednesday\, Nov. 10\n9 a.m.-4 p.m.\n\n\nThursday\, Nov. 11\n9 a.m.-noon\n\n\n\n\n	Registration fee: $160\n	Registration deadline: Oct. 26\, 2026\n	Location contact: Pastor Jeff Wilhelm\n	 \n	Register\n	More Workshops\n\n\nNote: The schedule is subject to change at the discretion of the workshop presenters. \n\n 
URL:https://stg.csl.matchbox.host/event/professor-prieto-in-ft-lauderdale-fl/
LOCATION:Trinity Lutheran Church (Ft. Lauderdale\, FL)\, 11 SW 11th St.\, Ft. Lauderdale\, MO\, 33315\, United States
CATEGORIES:Continuing Education
ATTACH;FMTTYPE=image/jpeg:https://stg.csl.matchbox.host/wp-content/uploads/2025/03/prof-event.jpg
ORGANIZER;CN="Continuing Education":MAILTO:ce@csl.edu
END:VEVENT
BEGIN:VEVENT
DTSTART;VALUE=DATE:20261115
DTEND;VALUE=DATE:20261116
DTSTAMP:20260425T093129
CREATED:20250612T181717Z
LAST-MODIFIED:20250612T181717Z
UID:189832-1794700800-1794787199@stg.csl.matchbox.host
SUMMARY:Twenty-fifth Sunday after Pentecost (Proper 28)
DESCRIPTION:Twenty-fifth Sunday after Pentecost (Proper 28)\n\n\n\nFIRST READING\nZeph. 1:7–16\n\n\nPSALM\nPs. 90:1–12\n\n\nEPISTLE\n1 Thess. 5:1–11\n\n\nGOSPEL\nMatt. 25:14–30\n\n\n\n  \nColor\n\n 
URL:https://stg.csl.matchbox.host/event/twenty-fifth-sunday-after-pentecost-proper-28-2026/
LOCATION:MO
CATEGORIES:Liturgical Calendar
END:VEVENT
BEGIN:VEVENT
DTSTART;VALUE=DATE:20261122
DTEND;VALUE=DATE:20261123
DTSTAMP:20260425T093129
CREATED:20250612T181840Z
LAST-MODIFIED:20250612T181840Z
UID:189834-1795305600-1795391999@stg.csl.matchbox.host
SUMMARY:Last Sunday of the Church Year (Proper 29)
DESCRIPTION:Last Sunday of the Church Year (Proper 29)\n\n\n\nFIRST READING\nEzek. 34:11–16\, 20–24\n\n\nPSALM\nPs. 95:1–7a\n\n\nEPISTLE\n1 Cor. 15:20–28\n\n\nGOSPEL\nMatt. 25:31–46\n\n\n\n  \nColor\n\n 
URL:https://stg.csl.matchbox.host/event/last-sunday-of-the-church-year-proper-29-2026/
LOCATION:MO
CATEGORIES:Liturgical Calendar
END:VEVENT
BEGIN:VEVENT
DTSTART;VALUE=DATE:20261126
DTEND;VALUE=DATE:20261127
DTSTAMP:20260425T093129
CREATED:20250612T182047Z
LAST-MODIFIED:20250612T182047Z
UID:189836-1795651200-1795737599@stg.csl.matchbox.host
SUMMARY:Thanksgiving Day
DESCRIPTION:Thanksgiving Day\n\n\n\nFIRST READING\nDeut. 8:1–10\n\n\nPSALM\nPs. 67\n\n\nEPISTLE\nPhil. 4:6–20 or 1 Tim. 2:1–4\n\n\nGOSPEL\nLuke 17:11–19\n\n\n\n  \nColor\n\n 
URL:https://stg.csl.matchbox.host/event/thanksgiving-day-2026/
LOCATION:MO
CATEGORIES:Holiday,Liturgical Calendar
END:VEVENT
BEGIN:VEVENT
DTSTART;VALUE=DATE:20231130
DTEND;VALUE=DATE:20231201
DTSTAMP:20260425T093129
CREATED:20230612T180710Z
LAST-MODIFIED:20231103T213849Z
UID:181895-1701302400-1701388799@stg.csl.matchbox.host
SUMMARY:St. Andrew\, Apostle
DESCRIPTION:
URL:https://stg.csl.matchbox.host/event/st-andrew-apostle/
LOCATION:MO
CATEGORIES:Liturgical Calendar
END:VEVENT
BEGIN:VEVENT
DTSTART;VALUE=DATE:20261130
DTEND;VALUE=DATE:20261201
DTSTAMP:20260425T093129
CREATED:20260109T151928Z
LAST-MODIFIED:20260109T152232Z
UID:191352-1795996800-1796083199@stg.csl.matchbox.host
SUMMARY:Wampner-Hoffmyer Scholarship application deadline
DESCRIPTION:
URL:https://stg.csl.matchbox.host/event/wampner-hoffmyer-scholarship-application-deadline/
LOCATION:MO
CATEGORIES:Financial Aid
END:VEVENT
END:VCALENDAR