BEGIN:VCALENDAR
VERSION:2.0
PRODID:-//Concordia Seminary - ECPv6.13.1//NONSGML v1.0//EN
CALSCALE:GREGORIAN
METHOD:PUBLISH
X-ORIGINAL-URL:https://stg.csl.matchbox.host
X-WR-CALDESC:Events for Concordia Seminary
REFRESH-INTERVAL;VALUE=DURATION:PT1H
X-Robots-Tag:noindex
X-PUBLISHED-TTL:PT1H
BEGIN:VTIMEZONE
TZID:America/Chicago
BEGIN:DAYLIGHT
TZOFFSETFROM:-0600
TZOFFSETTO:-0500
TZNAME:CDT
DTSTART:20260308T080000
END:DAYLIGHT
BEGIN:STANDARD
TZOFFSETFROM:-0500
TZOFFSETTO:-0600
TZNAME:CST
DTSTART:20261101T070000
END:STANDARD
END:VTIMEZONE
BEGIN:VEVENT
DTSTART;VALUE=DATE:20260810
DTEND;VALUE=DATE:20260813
DTSTAMP:20260424T013500
CREATED:20260327T160302Z
LAST-MODIFIED:20260327T160327Z
UID:191970-1786320000-1786579199@stg.csl.matchbox.host
SUMMARY:Prof Insights: Faculty-Led Workshop: Professor Elowsky in Macungie\, PA
DESCRIPTION:The Apostolic Fathers\nA study of the primary literature of the Apostolic Fathers with application to the life of the church today. The study will primarily focus on the texts themselves\, with attention given to issues of authorship\, dating\, the integrity of the text and the occasion for the writing\, as well as major theological\, ecclesiological and social issues that the writings address\, such as martyrdom\, church order\, orthodoxy and heresy\, and early Christian rituals. \n\n\n\n\nDr. Joel Elowsky\nProfessor of Historical Theology\, Dean of Advanced Studies\, Director of the Center for the Study of Early Christian Texts\, and Frank and Valerie Fuerst Professor of Historical Theology\nDr. Joel Elowsky is professor of Historical Theology at Concordia Seminary\, St. Louis. He also is the director of the Seminary’s Center for the Study of Early Christian Texts and is a researcher for the Center for Early African Christianity at the Oden House in New Haven\, Conn. He has been a faculty member at Concordia Seminary since 2014. His interests and areas of expertise include early church studies\, the history of exegesis\, mission work and African Christianity. \n\n\n	\n\n\n\n\nSchedule\n\n\nDAY\nTIME\n\n\nMonday\, Aug. 10\n1-4 p.m.\n\n\nTuesday\, Aug. 11\n9 a.m.-4 p.m.\n\n\nWednesday\, Aug. 12\n9 a.m.-noon\n\n\n\n\n	Registration fee: $160\n	Registration deadline: July 27\, 2026\n	Location contact: District President W.R. Vinovskis\n	 \n	Register\n	More Workshops\n\n\nNote: The schedule is subject to change at the discretion of the workshop presenters. \n\n 
URL:https://stg.csl.matchbox.host/event/professor-elowsky-in-macungie-pa/
LOCATION:Concordia Lutheran Church (Macungie\, PA)\, 2623 Brookside\, Macungie\, PA\, 18062\, United States
CATEGORIES:Continuing Education
ATTACH;FMTTYPE=image/jpeg:https://stg.csl.matchbox.host/wp-content/uploads/2025/03/prof-event.jpg
ORGANIZER;CN="Continuing Education":MAILTO:ce@csl.edu
END:VEVENT
END:VCALENDAR